BEGIN:VCALENDAR
VERSION:2.0
PRODID:-//Suomen postcrossingyhdistys ry - ECPv6.15.20//NONSGML v1.0//EN
CALSCALE:GREGORIAN
METHOD:PUBLISH
X-ORIGINAL-URL:https://www.postcrossingyhdistys.fi
X-WR-CALDESC:Tapahtumat Suomen postcrossingyhdistys ry
REFRESH-INTERVAL;VALUE=DURATION:PT1H
X-Robots-Tag:noindex
X-PUBLISHED-TTL:PT1H
BEGIN:VTIMEZONE
TZID:Europe/Helsinki
BEGIN:DAYLIGHT
TZOFFSETFROM:+0200
TZOFFSETTO:+0300
TZNAME:EEST
DTSTART:20230326T010000
END:DAYLIGHT
BEGIN:STANDARD
TZOFFSETFROM:+0300
TZOFFSETTO:+0200
TZNAME:EET
DTSTART:20231029T010000
END:STANDARD
BEGIN:DAYLIGHT
TZOFFSETFROM:+0200
TZOFFSETTO:+0300
TZNAME:EEST
DTSTART:20240331T010000
END:DAYLIGHT
BEGIN:STANDARD
TZOFFSETFROM:+0300
TZOFFSETTO:+0200
TZNAME:EET
DTSTART:20241027T010000
END:STANDARD
BEGIN:DAYLIGHT
TZOFFSETFROM:+0200
TZOFFSETTO:+0300
TZNAME:EEST
DTSTART:20250330T010000
END:DAYLIGHT
BEGIN:STANDARD
TZOFFSETFROM:+0300
TZOFFSETTO:+0200
TZNAME:EET
DTSTART:20251026T010000
END:STANDARD
END:VTIMEZONE
BEGIN:VEVENT
DTSTART;TZID=Europe/Helsinki:20241024T183000
DTEND;TZID=Europe/Helsinki:20241024T203000
DTSTAMP:20260421T070818
CREATED:20240828T081647Z
LAST-MODIFIED:20241001T181448Z
UID:10000210-1729794600-1729801800@www.postcrossingyhdistys.fi
SUMMARY:Virtuaalinen Syntymäpäivämiitti 24.10.2024
DESCRIPTION:Hurray! Suomen postcrossingyhdistys täyttää tänään 9 vuotta!\nTule juhlistamaan syntymäpäivää virtuaalimiittiin. Varaudu keittelemällä kahvi/tee ja mieluisa makupala. Juttelemme postikorteista\, esittelemme saatuja kortteja\, sekä muistellaan vähän mitä yhdeksään vuoteen on mahtunut. Arpajaiset ja muutakin mukavaa! \nMiittiin julkaistaan vuoden taiteilijamme Katja Saarion kuvittama syntymäpäiväkortti (tilattavissa 6.10.2024 saakka). Taustalle painetaan miittiin ilmoittautuneiden nimimerkit. \nVirtuaalisen syntymäpäivämiitin miittikortti 24.10.2024 \nLisätiedot ja ilmoittautuminen
URL:https://www.postcrossingyhdistys.fi/tapahtuma/virtuaalinen-syntymapaivamiitti-24-10-2024/
CATEGORIES:Miitti
ATTACH;FMTTYPE=image/jpeg:https://www.postcrossingyhdistys.fi/wp-content/uploads/2024/08/yhdistys-9vuotta-syntymapaivakakku.jpg
ORGANIZER;CN="Suomen postcrossingyhdistys ry":MAILTO:tapahtumat@postcrossingyhdistys.fi
END:VEVENT
END:VCALENDAR