BEGIN:VCALENDAR
VERSION:2.0
PRODID:-//Suomen postcrossingyhdistys ry - ECPv6.15.20//NONSGML v1.0//EN
CALSCALE:GREGORIAN
METHOD:PUBLISH
X-ORIGINAL-URL:https://www.postcrossingyhdistys.fi
X-WR-CALDESC:Tapahtumat Suomen postcrossingyhdistys ry
REFRESH-INTERVAL;VALUE=DURATION:PT1H
X-Robots-Tag:noindex
X-PUBLISHED-TTL:PT1H
BEGIN:VTIMEZONE
TZID:Europe/Helsinki
BEGIN:DAYLIGHT
TZOFFSETFROM:+0200
TZOFFSETTO:+0300
TZNAME:EEST
DTSTART:20230326T010000
END:DAYLIGHT
BEGIN:STANDARD
TZOFFSETFROM:+0300
TZOFFSETTO:+0200
TZNAME:EET
DTSTART:20231029T010000
END:STANDARD
BEGIN:DAYLIGHT
TZOFFSETFROM:+0200
TZOFFSETTO:+0300
TZNAME:EEST
DTSTART:20240331T010000
END:DAYLIGHT
BEGIN:STANDARD
TZOFFSETFROM:+0300
TZOFFSETTO:+0200
TZNAME:EET
DTSTART:20241027T010000
END:STANDARD
BEGIN:DAYLIGHT
TZOFFSETFROM:+0200
TZOFFSETTO:+0300
TZNAME:EEST
DTSTART:20250330T010000
END:DAYLIGHT
BEGIN:STANDARD
TZOFFSETFROM:+0300
TZOFFSETTO:+0200
TZNAME:EET
DTSTART:20251026T010000
END:STANDARD
END:VTIMEZONE
BEGIN:VEVENT
DTSTART;TZID=Europe/Helsinki:20240810T120000
DTEND;TZID=Europe/Helsinki:20240810T180000
DTSTAMP:20260421T090724
CREATED:20240620T083355Z
LAST-MODIFIED:20240624T172125Z
UID:10000207-1723291200-1723312800@www.postcrossingyhdistys.fi
SUMMARY:Jäsenretki Verlaan ja Vuohijärven luonto- ja kulttuuritalolle 10.8.2024
DESCRIPTION:Tervetuloa Verlaan ja Vuohijärvelle!\nTervetuloa yhdistyksen loppukesän päiväretkelle\, joka suuntautuu elokuussa maailmanperintökohde Verlaan ja Vuohijärven luonto- ja kulttuuritalolle. Yhdistys tarjoaa retkelle bussikuljetukset Kouvolan rautatieasemalta ja takaisin. \nRautatieasemalta matkaamme Verlaan\, jossa nautimme lounaan ravintola Verlassa. Lounaan jälkeen meillä on aikaa omatoimisesti tutustua alueen näyttelyihin ja käsityöpuotien valikoimiin ennen opastettua kierrosta Verlan tehdasmuseossa. Kierroksen jälkeen on vielä mahdollisuus jatkaa tutustumista näyttelyihin ja puoteihin. \nVerlasta siirrymme pienen ajomatkan päässä sijaitsevaan Vuohijärven luonto- ja kulttuuritalolle\, jossa tänä kesänä on näytteille yhdistyksemme vuoden 2018 taiteilijan\, Hannu Hautalan muistonäyttely Kultakotka ja valkea joutsen III\, joka on laaja koonti Suomessa ja maailmalla tunnetuimman luontokuvaajan otoksia. Vuohijärvellä on myynnissä runsaasti myös postikortteja. Näyttelyyn tutustumisen jälkeen nautimme kahvila Kaakkurissa Suomen parhaimmaksi kehutuista korvapuusteista kahvihetken merkeissä. Päivä päättyy paluukuljetukseen Kouvolan rautatieasemalle. \nRetken miittikortti\nJäsenretkellä ei järjestetä varsinaista miittiä\, mutta retkelle painatetaan oma\, Katja Saarion kuvittama spesiaali retkimiittikortti. Ajan säästämiseksi tähän korttiin painatetaan valmiiksi retkelle osallistuvien nimimerkit. Korttia on saatavana myös ilman nimimerkkipainatusta. \nMiittikortit tulevat tilattavaksi heinäkuun aikana\, ja ne on mahdollista tilata kuluitta toimitettavaksi jäsenretkelle. \nPäivän ohjelma\n\n\n\n\n	KLOOHJELMA\n\n\n\n\n	12.00Lähtö Kouvolan rautatieasemalla charter-bussilla\n\n\n	12.30 - 13.15Lounas ravintola Verlassa\n\n\n	13.15 - 14.00Omatoimista tutustumista alueen näyttelyihin ja käsityöpuoteihin\n\n\n	14.00 - 15.00Opastettu kierros Verlan tehdasmuseossa\n\n\n	15.00 - 15.45Omatoimista tutustumista alueen näyttelyihin ja käsityöpuoteihin\n\n\n	15.45Siirtyminen bussilla Vuohijärven luonto- ja kulttuuritalolle\n\n\n	16.00 - 17.00Tutustuminen Hannu Hautalan muistonäyttelyyn\n\n\n	17.00 - 17.30Kahvihetki luonto- ja kulttuuritalon kahvila Kaakkurissa\n\n\n	17.30Paluukuljetus Kouvolan rautatieasemalle\n\n\n	18.05Saavumme Kouvolan rautatieasemalle\n\n\n\n\nRetken hinta\nJäsenretken osallistumismaksu on 49 €. \nHinta sisältää: \n\nBussimatkat Kouvolan rautatieasemalta Verlaan\, Vuohijärvelle ja takaisin\nLounaan ravintola Verlassa (Ylikypsä possunfile\, pippurinen kermakastike\, salaatti\, keitinperuna\, jälkiruokakahvit makean kera)\nTehdasmuseon sisäänpääsyn opastetulle kierrokselle Verlassa\nSisäänpääsyn Hannu Hautalan muistonäyttelyyn Vuohijärvellä\nKahvihetken kahvila Kaakkurissa Vuohijärvellä (Kahvi/tee\, korvapuusti)\n\nErikoisruokavaliot huomioidaan. \nOsallistuminen\nJäsenretki on tarkoitettu Suomen postcrossingyhdistyksen varsinaisille ja kannatusjäsenille. Mukaan mahtuu enintään 50 ensin ilmoittautunutta. \nHUOMAA! Ilmoittautuminen tapahtuu ostamalla Tapahtumalippu tämän sivun alalaidasta. Lippuja myydään enintään 21.7. klo 24 saakka\, tai kunnes liput ovat loppuunmyyty. \nLippu maksetaan oston yhteydessä verkkomaksuna\, eli erillistä laskua ei tule. \nYhteydet Kouvolaan lauantaina 10.8.\nJunayhteydet Kouvolan rautatieasemalle \n\nHelsingistä 10:13\, perillä 11:41\nJyväskylästä 7:19\, perillä 11:41\nTampereelta 9:00\, perillä 11:41\nTurusta 7:40\, perillä 11:41\nVaasasta 6:44\, perillä 11:41\n\nJunayhteydet Kouvolan rautatieasemalta \n\nHelsinkiin 18:24\, perillä 19:45\nJyväskylään 18:24\, perillä 22:43\nSeinäjoelle 18:24\, perillä 0:56\nTampereelle 18:24\, perillä 20:53\nTurkuun 18:24\, perillä 23:03\n\nTervetuloa mukaan!\n  \n  \n 
URL:https://www.postcrossingyhdistys.fi/tapahtuma/jasenretki-verlaan-ja-vuohijarven-luonto-ja-kulttuuritalolle-10-8-2024/
LOCATION:Verla\, Verlantie 295\, Verla\, 47850\, Suomi
CATEGORIES:Jäsenmatka
ATTACH;FMTTYPE=image/jpeg:https://www.postcrossingyhdistys.fi/wp-content/uploads/2024/06/jasenretki-verlaan-10-8-2024.jpg
ORGANIZER;CN="Suomen postcrossingyhdistys ry":MAILTO:tapahtumat@postcrossingyhdistys.fi
END:VEVENT
END:VCALENDAR