BEGIN:VCALENDAR
VERSION:2.0
PRODID:-//Suomen postcrossingyhdistys ry - ECPv6.15.20//NONSGML v1.0//EN
CALSCALE:GREGORIAN
METHOD:PUBLISH
X-ORIGINAL-URL:https://www.postcrossingyhdistys.fi
X-WR-CALDESC:Tapahtumat Suomen postcrossingyhdistys ry
REFRESH-INTERVAL;VALUE=DURATION:PT1H
X-Robots-Tag:noindex
X-PUBLISHED-TTL:PT1H
BEGIN:VTIMEZONE
TZID:Europe/Helsinki
BEGIN:DAYLIGHT
TZOFFSETFROM:+0200
TZOFFSETTO:+0300
TZNAME:EEST
DTSTART:20220327T010000
END:DAYLIGHT
BEGIN:STANDARD
TZOFFSETFROM:+0300
TZOFFSETTO:+0200
TZNAME:EET
DTSTART:20221030T010000
END:STANDARD
BEGIN:DAYLIGHT
TZOFFSETFROM:+0200
TZOFFSETTO:+0300
TZNAME:EEST
DTSTART:20230326T010000
END:DAYLIGHT
BEGIN:STANDARD
TZOFFSETFROM:+0300
TZOFFSETTO:+0200
TZNAME:EET
DTSTART:20231029T010000
END:STANDARD
BEGIN:DAYLIGHT
TZOFFSETFROM:+0200
TZOFFSETTO:+0300
TZNAME:EEST
DTSTART:20240331T010000
END:DAYLIGHT
BEGIN:STANDARD
TZOFFSETFROM:+0300
TZOFFSETTO:+0200
TZNAME:EET
DTSTART:20241027T010000
END:STANDARD
END:VTIMEZONE
BEGIN:VEVENT
DTSTART;VALUE=DATE:20230805
DTEND;VALUE=DATE:20230807
DTSTAMP:20260423T012827
CREATED:20230103T102741Z
LAST-MODIFIED:20230630T131620Z
UID:10000192-1691193600-1691366399@www.postcrossingyhdistys.fi
SUMMARY:Jäsenretki Valamon luostariin Heinävedelle 5.8.2023
DESCRIPTION:LISÄTIEDOT JA ILMOITTAUTUMINEN
URL:https://www.postcrossingyhdistys.fi/tapahtuma/jasenretki-valamon-luostariin-heinavedelle-5-8-2023/
LOCATION:Valamon luostari\, Valamontie 42\, Uusi-Valamo\, 79850\, Suomi
CATEGORIES:Jäsenmatka,Miitti
ORGANIZER;CN="Suomen postcrossingyhdistys ry":MAILTO:tapahtumat@postcrossingyhdistys.fi
GEO:62.5627638;28.7910863
X-APPLE-STRUCTURED-LOCATION;VALUE=URI;X-ADDRESS=Valamon luostari Valamontie 42 Uusi-Valamo 79850 Suomi;X-APPLE-RADIUS=500;X-TITLE=Valamontie 42:geo:28.7910863,62.5627638
END:VEVENT
END:VCALENDAR