BEGIN:VCALENDAR
VERSION:2.0
PRODID:-//Suomen postcrossingyhdistys ry - ECPv6.15.20//NONSGML v1.0//EN
CALSCALE:GREGORIAN
METHOD:PUBLISH
X-ORIGINAL-URL:https://www.postcrossingyhdistys.fi
X-WR-CALDESC:Tapahtumat Suomen postcrossingyhdistys ry
REFRESH-INTERVAL;VALUE=DURATION:PT1H
X-Robots-Tag:noindex
X-PUBLISHED-TTL:PT1H
BEGIN:VTIMEZONE
TZID:Europe/Helsinki
BEGIN:DAYLIGHT
TZOFFSETFROM:+0200
TZOFFSETTO:+0300
TZNAME:EEST
DTSTART:20210328T010000
END:DAYLIGHT
BEGIN:STANDARD
TZOFFSETFROM:+0300
TZOFFSETTO:+0200
TZNAME:EET
DTSTART:20211031T010000
END:STANDARD
BEGIN:DAYLIGHT
TZOFFSETFROM:+0200
TZOFFSETTO:+0300
TZNAME:EEST
DTSTART:20220327T010000
END:DAYLIGHT
BEGIN:STANDARD
TZOFFSETFROM:+0300
TZOFFSETTO:+0200
TZNAME:EET
DTSTART:20221030T010000
END:STANDARD
BEGIN:DAYLIGHT
TZOFFSETFROM:+0200
TZOFFSETTO:+0300
TZNAME:EEST
DTSTART:20230326T010000
END:DAYLIGHT
BEGIN:STANDARD
TZOFFSETFROM:+0300
TZOFFSETTO:+0200
TZNAME:EET
DTSTART:20231029T010000
END:STANDARD
END:VTIMEZONE
BEGIN:VEVENT
DTSTART;TZID=Europe/Helsinki:20221001T103000
DTEND;TZID=Europe/Helsinki:20221002T180000
DTSTAMP:20260424T193703
CREATED:20220907T085149Z
LAST-MODIFIED:20220907T085149Z
UID:10000174-1664620200-1664733600@www.postcrossingyhdistys.fi
SUMMARY:Ryhmämatka Tallinnaan 1.-2.10.2022
DESCRIPTION:Matkustamme Tallinnaan juhlimaan maailman postikorttipäivää (World Postcard Day) Viron postin Omnivan julkaistessa Postcrossing-aiheisen postimerkin\, samalla miittailemme laivalla ja Tallinnassa. \nLue lisää tapahtumasta ja ilmoittaudu
URL:https://www.postcrossingyhdistys.fi/tapahtuma/ryhmamatka-tallinnaan-1-2-10-2022/
LOCATION:Original Sokos Hotel Viru\, Viru Väljak 4\, Tallinn\, Viro
CATEGORIES:Jäsenmatka,Miitti,Uusien postimerkkien ilmestymispäivä
ORGANIZER;CN="Suomen postcrossingyhdistys ry":MAILTO:tapahtumat@postcrossingyhdistys.fi
GEO:59.4365146;24.7559339
X-APPLE-STRUCTURED-LOCATION;VALUE=URI;X-ADDRESS=Original Sokos Hotel Viru Viru Väljak 4 Tallinn Viro;X-APPLE-RADIUS=500;X-TITLE=Viru Väljak 4:geo:24.7559339,59.4365146
END:VEVENT
END:VCALENDAR