BEGIN:VCALENDAR
VERSION:2.0
PRODID:-//Suomen postcrossingyhdistys ry - ECPv6.15.20//NONSGML v1.0//EN
CALSCALE:GREGORIAN
METHOD:PUBLISH
X-WR-CALNAME:Suomen postcrossingyhdistys ry
X-ORIGINAL-URL:https://www.postcrossingyhdistys.fi
X-WR-CALDESC:Tapahtumat Suomen postcrossingyhdistys ry
REFRESH-INTERVAL;VALUE=DURATION:PT1H
X-Robots-Tag:noindex
X-PUBLISHED-TTL:PT1H
BEGIN:VTIMEZONE
TZID:Europe/Helsinki
BEGIN:DAYLIGHT
TZOFFSETFROM:+0200
TZOFFSETTO:+0300
TZNAME:EEST
DTSTART:20210328T010000
END:DAYLIGHT
BEGIN:STANDARD
TZOFFSETFROM:+0300
TZOFFSETTO:+0200
TZNAME:EET
DTSTART:20211031T010000
END:STANDARD
BEGIN:DAYLIGHT
TZOFFSETFROM:+0200
TZOFFSETTO:+0300
TZNAME:EEST
DTSTART:20220327T010000
END:DAYLIGHT
BEGIN:STANDARD
TZOFFSETFROM:+0300
TZOFFSETTO:+0200
TZNAME:EET
DTSTART:20221030T010000
END:STANDARD
BEGIN:DAYLIGHT
TZOFFSETFROM:+0200
TZOFFSETTO:+0300
TZNAME:EEST
DTSTART:20230326T010000
END:DAYLIGHT
BEGIN:STANDARD
TZOFFSETFROM:+0300
TZOFFSETTO:+0200
TZNAME:EET
DTSTART:20231029T010000
END:STANDARD
END:VTIMEZONE
BEGIN:VEVENT
DTSTART;TZID=Europe/Helsinki:20220806T123000
DTEND;TZID=Europe/Helsinki:20220806T180000
DTSTAMP:20260424T132901
CREATED:20220606T050243Z
LAST-MODIFIED:20220711T155440Z
UID:10000173-1659789000-1659808800@www.postcrossingyhdistys.fi
SUMMARY:Elomiitti Mikkelissä
DESCRIPTION:Tervetuloa Elomiittiin Mikkeliin! \nLISÄTIETOA JA ILMOITTAUTUMINEN
URL:https://www.postcrossingyhdistys.fi/tapahtuma/elomiitti-mikkelissa/
LOCATION:Ravintola Rami\, Sammonkatu 12\, Mikkeli\, 50130\, Suomi
CATEGORIES:Miitti
ORGANIZER;CN="Suomen postcrossingyhdistys ry":MAILTO:tapahtumat@postcrossingyhdistys.fi
GEO:61.6818784;27.2548673
X-APPLE-STRUCTURED-LOCATION;VALUE=URI;X-ADDRESS=Ravintola Rami Sammonkatu 12 Mikkeli 50130 Suomi;X-APPLE-RADIUS=500;X-TITLE=Sammonkatu 12:geo:27.2548673,61.6818784
END:VEVENT
END:VCALENDAR