BEGIN:VCALENDAR
VERSION:2.0
PRODID:-//Suomen postcrossingyhdistys ry - ECPv6.15.20//NONSGML v1.0//EN
CALSCALE:GREGORIAN
METHOD:PUBLISH
X-WR-CALNAME:Suomen postcrossingyhdistys ry
X-ORIGINAL-URL:https://www.postcrossingyhdistys.fi
X-WR-CALDESC:Tapahtumat Suomen postcrossingyhdistys ry
REFRESH-INTERVAL;VALUE=DURATION:PT1H
X-Robots-Tag:noindex
X-PUBLISHED-TTL:PT1H
BEGIN:VTIMEZONE
TZID:Europe/Helsinki
BEGIN:DAYLIGHT
TZOFFSETFROM:+0200
TZOFFSETTO:+0300
TZNAME:EEST
DTSTART:20210328T010000
END:DAYLIGHT
BEGIN:STANDARD
TZOFFSETFROM:+0300
TZOFFSETTO:+0200
TZNAME:EET
DTSTART:20211031T010000
END:STANDARD
BEGIN:DAYLIGHT
TZOFFSETFROM:+0200
TZOFFSETTO:+0300
TZNAME:EEST
DTSTART:20220327T010000
END:DAYLIGHT
BEGIN:STANDARD
TZOFFSETFROM:+0300
TZOFFSETTO:+0200
TZNAME:EET
DTSTART:20221030T010000
END:STANDARD
BEGIN:DAYLIGHT
TZOFFSETFROM:+0200
TZOFFSETTO:+0300
TZNAME:EEST
DTSTART:20230326T010000
END:DAYLIGHT
BEGIN:STANDARD
TZOFFSETFROM:+0300
TZOFFSETTO:+0200
TZNAME:EET
DTSTART:20231029T010000
END:STANDARD
END:VTIMEZONE
BEGIN:VEVENT
DTSTART;TZID=Europe/Helsinki:20220212T180000
DTEND;TZID=Europe/Helsinki:20220212T203000
DTSTAMP:20260425T153658
CREATED:20220109T151159Z
LAST-MODIFIED:20220109T151159Z
UID:10000170-1644688800-1644697800@www.postcrossingyhdistys.fi
SUMMARY:Virtuaalinen Ystävänpäivämiitti
DESCRIPTION:Vuoden ensimmäinen tapahtuma on Virtuaalinen Ystävänpäivämiitti\, joka järjestetään lauantaina 12.2. klo 18 alkaen. \nTule tapaamaan muita postcrossaajia suosittuun virtuaalimiittiin ystävänpäiväteemalla! \nMiitin aikana jutellaan ja esitellään saapuneita kortteja (esittely ei ole pakollista). Miitin aikana voi myös kirjoitella postikortteja. Olemme miitissä myös pienhuoneissa. Lisäksi ohjelmassa mm. Kahoot-tietovisa sekä jo perinteeksi muodostuneet arpajaiset upeine palkintoineen! \nMiittiin kuuluu myös miittikorttivaihto (osallistuminen on vapaavalintaista). Annamme korttivaihtoon mukaan tuleville osallistujille satunnaisesti jonkun toisen osallistujan osoitteen\, ja osallistujat lähettävät annettuihin osoitteisiin ystävänpäiväkortin. Kortti voi olla mikä tahansa ystävänpäiväaiheinen postikortti. Saapuneet kortit esitellään lyhyesti miitissä. \nMiittiin valmistetaan myös oma virtuaalimiittikortti\, johon painetaan ko. kortteja tilaavien osallistujien Postcrossing-nimimerkit. \nILMOITTAUTUMINEN\nhttps://www.postcrossingyhdistys.fi/cyber/ \nMIITTIKORTTIEN TILAUS\nhttps://www.postcrossingyhdistys.fi/kauppa/
URL:https://www.postcrossingyhdistys.fi/tapahtuma/virtuaalinen-ystavanpaivamiitti-2022/
CATEGORIES:Miitti
ORGANIZER;CN="Suomen postcrossingyhdistys ry":MAILTO:tapahtumat@postcrossingyhdistys.fi
END:VEVENT
END:VCALENDAR