BEGIN:VCALENDAR
VERSION:2.0
PRODID:-//Suomen postcrossingyhdistys ry - ECPv6.15.20//NONSGML v1.0//EN
CALSCALE:GREGORIAN
METHOD:PUBLISH
X-ORIGINAL-URL:https://www.postcrossingyhdistys.fi
X-WR-CALDESC:Tapahtumat Suomen postcrossingyhdistys ry
REFRESH-INTERVAL;VALUE=DURATION:PT1H
X-Robots-Tag:noindex
X-PUBLISHED-TTL:PT1H
BEGIN:VTIMEZONE
TZID:Europe/Helsinki
BEGIN:DAYLIGHT
TZOFFSETFROM:+0200
TZOFFSETTO:+0300
TZNAME:EEST
DTSTART:20190331T010000
END:DAYLIGHT
BEGIN:STANDARD
TZOFFSETFROM:+0300
TZOFFSETTO:+0200
TZNAME:EET
DTSTART:20191027T010000
END:STANDARD
BEGIN:DAYLIGHT
TZOFFSETFROM:+0200
TZOFFSETTO:+0300
TZNAME:EEST
DTSTART:20200329T010000
END:DAYLIGHT
BEGIN:STANDARD
TZOFFSETFROM:+0300
TZOFFSETTO:+0200
TZNAME:EET
DTSTART:20201025T010000
END:STANDARD
BEGIN:DAYLIGHT
TZOFFSETFROM:+0200
TZOFFSETTO:+0300
TZNAME:EEST
DTSTART:20210328T010000
END:DAYLIGHT
BEGIN:STANDARD
TZOFFSETFROM:+0300
TZOFFSETTO:+0200
TZNAME:EET
DTSTART:20211031T010000
END:STANDARD
BEGIN:DAYLIGHT
TZOFFSETFROM:+0200
TZOFFSETTO:+0300
TZNAME:EEST
DTSTART:20220327T010000
END:DAYLIGHT
BEGIN:STANDARD
TZOFFSETFROM:+0300
TZOFFSETTO:+0200
TZNAME:EET
DTSTART:20221030T010000
END:STANDARD
BEGIN:DAYLIGHT
TZOFFSETFROM:+0200
TZOFFSETTO:+0300
TZNAME:EEST
DTSTART:20230326T010000
END:DAYLIGHT
BEGIN:STANDARD
TZOFFSETFROM:+0300
TZOFFSETTO:+0200
TZNAME:EET
DTSTART:20231029T010000
END:STANDARD
BEGIN:DAYLIGHT
TZOFFSETFROM:+0200
TZOFFSETTO:+0300
TZNAME:EEST
DTSTART:20240331T010000
END:DAYLIGHT
BEGIN:STANDARD
TZOFFSETFROM:+0300
TZOFFSETTO:+0200
TZNAME:EET
DTSTART:20241027T010000
END:STANDARD
BEGIN:DAYLIGHT
TZOFFSETFROM:+0200
TZOFFSETTO:+0300
TZNAME:EEST
DTSTART:20250330T010000
END:DAYLIGHT
BEGIN:STANDARD
TZOFFSETFROM:+0300
TZOFFSETTO:+0200
TZNAME:EET
DTSTART:20251026T010000
END:STANDARD
BEGIN:DAYLIGHT
TZOFFSETFROM:+0200
TZOFFSETTO:+0300
TZNAME:EEST
DTSTART:20260329T010000
END:DAYLIGHT
BEGIN:STANDARD
TZOFFSETFROM:+0300
TZOFFSETTO:+0200
TZNAME:EET
DTSTART:20261025T010000
END:STANDARD
BEGIN:DAYLIGHT
TZOFFSETFROM:+0200
TZOFFSETTO:+0300
TZNAME:EEST
DTSTART:20270328T010000
END:DAYLIGHT
BEGIN:STANDARD
TZOFFSETFROM:+0300
TZOFFSETTO:+0200
TZNAME:EET
DTSTART:20271031T010000
END:STANDARD
END:VTIMEZONE
BEGIN:VEVENT
DTSTART;TZID=Europe/Helsinki:20260129T183000
DTEND;TZID=Europe/Helsinki:20260129T200000
DTSTAMP:20260420T224211
CREATED:20251230T203126Z
LAST-MODIFIED:20251230T203126Z
UID:10000239-1769711400-1769716800@www.postcrossingyhdistys.fi
SUMMARY:Torstaiwebinaari - Vuoden taiteilija Jukka Risikko 29.1.2026
DESCRIPTION:Tervetuloa vuoden 2026 ensimmäiseen torstaiwebinaariin. Webinaarin vieraana on yhdistyksemme vuoden taiteilija 2026\, valokuvaaja Jukka Risikko. \nKeskustelemme Jukan kanssa valokuvista\, valokuvauksesta\, luonnosta – ja tietenkin postimerkeistä ja postikorteista. Jukan kanssa käydään läpi myös jokainen yhdistyksen vuoden taiteilija -lahjapostikorttilajitelmaan valitut kuvat ja niiden synty. Sinulla on mahdollisuus esittää Jukalle webinaarin päätteeksi myös kysymyksiä. \nWebinaarin päätteeksi perinteiseen tapaan arpajaiset. \nWebinaarin ohjelma\n\n18.00 – 18.15 Saapuminen Webinaariin\n\nvoit testata video- ja ääniyhteyksiä tänä aikana ja jutustella muiden osallistujien kanssa\n\n\n18.30 – 19.15 Webinaari\n19.15 – 19.30 Keskustelua ja kysymyksiä\n19.30 – 19.45 Arpajaiset\n\nIlmoittautuminen\nWebinaari järjestetään verkossa Zoom-sovelluksessa. Osallistuaksesi tarvitset tietokoneen tai mobiililaitteen\, joka on varustettu nettiyhteydellä ja etukameralla. Zoom-apuohjelma on maksuton ja se asennetaan tietokoneelle/mobiililaitteelle yhteyden avaamisen yhteydessä. \nPaikkoja on sadalle osallistujalle. Ilmoittautuminen päättyy paikkojen täytyttyä tai viimeistään maanantaina 26.1. klo 24. \nWebinaari on maksuton ja tarkoitettu Suomen postcrossingyhdistyksen jäsenille. Lisätietoa jäsenyydestä tästä ja liittymislomakkeelle tästä. \nILMOITTAUDU TÄSTÄ LINKISTÄ
URL:https://www.postcrossingyhdistys.fi/tapahtuma/torstaiwebinaari-vuoden-taiteilija-jukka-risikko-29-1-2026/
CATEGORIES:Webinaari
ATTACH;FMTTYPE=image/jpeg:https://www.postcrossingyhdistys.fi/wp-content/uploads/2025/12/torstaiwebinaari-29-1-2026-vuoden-taiteilija-jukka-risikko.jpg
ORGANIZER;CN="Suomen postcrossingyhdistys ry":MAILTO:tapahtumat@postcrossingyhdistys.fi
END:VEVENT
BEGIN:VEVENT
DTSTART;TZID=Europe/Helsinki:20250116T183000
DTEND;TZID=Europe/Helsinki:20250116T193000
DTSTAMP:20260420T224211
CREATED:20250109T202831Z
LAST-MODIFIED:20250109T205547Z
UID:10000217-1737052200-1737055800@www.postcrossingyhdistys.fi
SUMMARY:Torstaiwebinaari - Näin järjestän paikallismiitin
DESCRIPTION:Tervetuloa vuoden ensimmäiseen torstaiwebinaariin kuulemaan\, oppimaan\, kertaamaan\, miten järjestän paikallisen Postcrossing-miitin.  \nEhkä olet joskus harkinnut miitin järjestämistä paikkakunnallasi\, mutta et tiedä mistä aloittaa ja miten tavoittaa paikkakunnan tai alueen hararstajia? \nWebinaari etenee keskustelumuotoisesti. Vetäjinä on kolme kokenutta paikallismiittien järjestäjää: Silpa (Silpa Forsman) Nokialta\, Windmill (Minna Kontio) Vaasasta ja insp3ktor (Marko Kulmala) Turusta. \nWebinaarissa käsiteltäviä teemoja ovat mm.: \n\nPaikallismiittien järjestäminen yleisesti\n⁠⁠Miitin järjestäjän/järjestäjien muistilista\nPäätös miitin järjestämisestä (yksin vai yhdessä)\nMistä miittipaikka\, milloin?\n⁠Tiedottaminen ja ilmoittautumisten hallinta\, foorumi(t)\n⁠Oma miittikortti vai ei?\n⁠Postcrossing-logon käyttö miittikorteissa\n⁠Miittikortin painatus\, missä ja mitä huomioitava?\nMiittikuoret – tarvitaanko niitä?\nMitä miiteissä tehdään\, osallistujien ohjeistaminen\nOvatko postileimat tärkeitä?\n\nWebinaari on maksuton ja avoin kaikille Suomen postcrossingyhdistyksen jäsenille. \nTule kuulemaan ja järjestä vaikka ensimmäinen miittisi jo ystävänpäivänä 14.2.2025. Yhdistys painattaa tähän tapahtumaan Minna Lehväslaihon kuvittaman miittikortin osallistuville paikkakunnille. Webinaarissa kuulet tästäkin lisää. \nIlmoittautumislomake\nIlmoittaudu 15.1.2025 klo 21 mennessä.
URL:https://www.postcrossingyhdistys.fi/tapahtuma/torstaiwebinaari-nain-jarjestan-paikallismiitin/
CATEGORIES:Webinaari
ATTACH;FMTTYPE=image/jpeg:https://www.postcrossingyhdistys.fi/wp-content/uploads/2025/01/torstaiwebinaari-2025-01-16-miittien-jarjestaminen.jpg
ORGANIZER;CN="Suomen postcrossingyhdistys ry":MAILTO:tapahtumat@postcrossingyhdistys.fi
END:VEVENT
BEGIN:VEVENT
DTSTART;TZID=Europe/Helsinki:20241017T183000
DTEND;TZID=Europe/Helsinki:20241017T193000
DTSTAMP:20260420T224211
CREATED:20241001T122208Z
LAST-MODIFIED:20241016T090814Z
UID:10000216-1729189800-1729193400@www.postcrossingyhdistys.fi
SUMMARY:Webinaarivieraana Katja Saario 17.10.2024
DESCRIPTION:Tervetuloa webinaariimme tutustumaan vuoden 2024 taiteilijaamme Katja Saarioon. Webinaarissa hän kertoo taiteestaan ja työstään. Katjalle voi myös esittää kysymyksiä. Webinaari lähetetään suoraan Katjan työhuoneelta.\n \nYhdistys myy myös webinaariarpoja tapahtumaan osallistuville. \nLisäksi kaikkien osallistujien kesken arvotaan kolme (3) Katja Saarion vuoden 2025 seinäkalentereita! \nWebinaariin osallistumiseksi tarvitset nettiyhteydellä varustetun tietokoneen\, älypuhelimen\, tai tabletin. \nEdellytämme ennakkoilmoittautumista. Tapahtuma on maksuton ja avoin myös muille\, kuin Suomen postcrossingyhdistyksen jäsenille. \nILMOITTAUDU TÄLLÄ SIVULLA VIIMEISTÄÄN 16.10. KLO 12 \nIlmoittautumisaikaa jäljellä\n \nIlmoittautumislomake\nIlmoittautuminen on päättynyt
URL:https://www.postcrossingyhdistys.fi/tapahtuma/webinaarivieraana-katja-saario-17-10-2024/
CATEGORIES:Webinaari
ATTACH;FMTTYPE=image/jpeg:https://www.postcrossingyhdistys.fi/wp-content/uploads/2023/12/katja-saario-vuoden-taiteilija-2024.jpg
ORGANIZER;CN="Suomen postcrossingyhdistys ry":MAILTO:tapahtumat@postcrossingyhdistys.fi
END:VEVENT
BEGIN:VEVENT
DTSTART;TZID=Europe/Helsinki:20240125T180000
DTEND;TZID=Europe/Helsinki:20240125T193000
DTSTAMP:20260420T224211
CREATED:20240119T183903Z
LAST-MODIFIED:20240125T070258Z
UID:10000199-1706205600-1706211000@www.postcrossingyhdistys.fi
SUMMARY:Webinaari postimerkeistä ja postikorttikokoelman laadinnasta 25.1.2024
DESCRIPTION:Tervetuloa mukaan kaikille postcrossaajille avoimeen (jäsenyydestä riippumatta) webinaariin postikorttikokoelman rakentamisesta ja filatelian (postimerkkeily) innostavuudesta. \nWebinaari toteutetaan yhteistyössä Suomen Filatelistiliiton kanssa. \nWebinaari on maksuton. \nOsallistuaksesi\, tarvitset tietokoneen tai mobiililaitteen\, jolla voit seurata videoesitystä. Osallistuaksesi kysymyksin\, tarvitset myös video- ja ääniyhteyden. Saat sähköpostitse Zoom-linkin\, jota klikkaamalla pääset webinaariin. \nWebinaarin aikataulu\n\n17.30 – 18.00 Saapuminen Webinaariin\n\nvoit testata video- ja ääniyhteyksiä tänä aikana ja jutustella muiden osallistujien kanssa\n\n\n18.00 – 18.15 Webinaarin avaus\, Suomen postcrossingyhdistyksen esittely\n\nMarko Kulmala\, toiminnanjohtaja\, Suomen postcrossingyhdistys ry\n\n\n18.15 – 18.45 Lyhyt johdanto ja perusniksejä postikorttikokoelman laadintaan ja rakentamiseen\n\nSeppo Salonen\, Tampereen Filatelistiseura ry\n\n\n18.45 – 19.00 Filatelia harrasteena\, johdatus postimerkkien kiehtovaan maailmaan\n\nJuha Valtonen\, Tampereen Filatelistiseura ry\n\n\n19.00 – 19.15 Keskustelua ja kysymyksiä\n19.15-19.30 Arpajaiset\n\nIlmoittautuminen\nIlmoittautuminen on päättynyt. \n 
URL:https://www.postcrossingyhdistys.fi/tapahtuma/webinaari-postimerkeista-ja-postikorttikokoelman-laadinnasta-25-1-2024/
CATEGORIES:Webinaari
ORGANIZER;CN="Suomen postcrossingyhdistys ry":MAILTO:tapahtumat@postcrossingyhdistys.fi
END:VEVENT
BEGIN:VEVENT
DTSTART;TZID=Europe/Helsinki:20210423T190000
DTEND;TZID=Europe/Helsinki:20210423T203000
DTSTAMP:20260420T224211
CREATED:20210415T065133Z
LAST-MODIFIED:20210415T065133Z
UID:10000161-1619204400-1619209800@www.postcrossingyhdistys.fi
SUMMARY:Webinaarivieraana Minna L. Immonen 23.4.2021
DESCRIPTION:Tervetuloa webinaariimme tutustumaan vuoden 2021 taiteilijaamme Minna L. Immoseen. Webinaarissa hän kertoo taiteestaan ja työstään. Voimme myös seurata\, kun hän kuvittaa kesäksi julkaistavaa postikorttiamme! Tule ja katso\, mistä aiheesta! \nYhdistys myy myös webinaariarpoja tapahtumaan osallistuville. \nWebinaarin vetää hallituksemme jäsen Minna Lehväslaiho\, vuoden taiteilijamme vuodelta 2019 hänkin. \nWebinaariin osallistumiseksi tarvitset nettiyhteydellä varustetun tietokoneen\, älypuhelimen\, tai tabletin. \nEdellytämme ennakkoilmoittautumista. Saat pääsylinkin sähköpostitse perjantaina 23.4. aamulla. \nILMOITTAUDU TÄÄLLÄ VIIMEISTÄÄN 22.4. KLO 22 \nTapahtuma on maksuton ja avoin myös muille\, kuin Suomen postcrossingyhdistyksen jäsenille.
URL:https://www.postcrossingyhdistys.fi/tapahtuma/webinaarivieraana-minna-l-immonen-23-4-2021/
ATTACH;FMTTYPE=image/jpeg:https://www.postcrossingyhdistys.fi/wp-content/uploads/2020/12/vuoden-taiteilija-2021-minna-immonen.jpg
ORGANIZER;CN="Suomen postcrossingyhdistys ry":MAILTO:tapahtumat@postcrossingyhdistys.fi
END:VEVENT
BEGIN:VEVENT
DTSTART;TZID=Europe/Helsinki:20201211T190000
DTEND;TZID=Europe/Helsinki:20201211T200000
DTSTAMP:20260420T224211
CREATED:20201203T154127Z
LAST-MODIFIED:20201203T154127Z
UID:10000160-1607713200-1607716800@www.postcrossingyhdistys.fi
SUMMARY:Webinaarivieraana Taneli Eskola
DESCRIPTION:Webinaarivieraanamme on valokuvataiteilija\, ja vuoden taiteilijamme Taneli Eskola. \nLue lisää ja ilmoittaudu \n 
URL:https://www.postcrossingyhdistys.fi/tapahtuma/webinaarivieraana-taneli-eskola/
CATEGORIES:Webinaari
ORGANIZER;CN="Suomen postcrossingyhdistys ry":MAILTO:tapahtumat@postcrossingyhdistys.fi
END:VEVENT
BEGIN:VEVENT
DTSTART;TZID=Europe/Helsinki:20200515T180000
DTEND;TZID=Europe/Helsinki:20200515T190000
DTSTAMP:20260420T224211
CREATED:20200505T175054Z
LAST-MODIFIED:20200505T175054Z
UID:10000152-1589565600-1589569200@www.postcrossingyhdistys.fi
SUMMARY:Postikortin tarina -webinaari
DESCRIPTION:Postikortin tarina\nWebinaari 15.5.2020 klo 18-19\nTule kuulemaan postikortin historiaa. \nSaat selville muun muassa: \n\nMilloin\, missä ja miksi ensimmäinen postikortti kehitettiin?\nMillainen oli Suomen ensimmäinen postikortti?\nMiksi postikorteista hullaannuttiin?\nMillaista oli postikorttien monipuolinen kuvasto?\n\nTapahtuma on maksuton! \nLue lisää ja ilmoittaudu 14.5. mennessä
URL:https://www.postcrossingyhdistys.fi/tapahtuma/postikortin-tarina-webinaari/
CATEGORIES:Postikorttitapahtuma
ORGANIZER;CN="Suomen postcrossingyhdistys ry":MAILTO:tapahtumat@postcrossingyhdistys.fi
END:VEVENT
END:VCALENDAR