BEGIN:VCALENDAR
VERSION:2.0
PRODID:-//Suomen postcrossingyhdistys ry - ECPv6.15.20//NONSGML v1.0//EN
CALSCALE:GREGORIAN
METHOD:PUBLISH
X-WR-CALNAME:Suomen postcrossingyhdistys ry
X-ORIGINAL-URL:https://www.postcrossingyhdistys.fi
X-WR-CALDESC:Tapahtumat Suomen postcrossingyhdistys ry
REFRESH-INTERVAL;VALUE=DURATION:PT1H
X-Robots-Tag:noindex
X-PUBLISHED-TTL:PT1H
BEGIN:VTIMEZONE
TZID:Europe/Helsinki
BEGIN:DAYLIGHT
TZOFFSETFROM:+0200
TZOFFSETTO:+0300
TZNAME:EEST
DTSTART:20150329T010000
END:DAYLIGHT
BEGIN:STANDARD
TZOFFSETFROM:+0300
TZOFFSETTO:+0200
TZNAME:EET
DTSTART:20151025T010000
END:STANDARD
BEGIN:DAYLIGHT
TZOFFSETFROM:+0200
TZOFFSETTO:+0300
TZNAME:EEST
DTSTART:20160327T010000
END:DAYLIGHT
BEGIN:STANDARD
TZOFFSETFROM:+0300
TZOFFSETTO:+0200
TZNAME:EET
DTSTART:20161030T010000
END:STANDARD
BEGIN:DAYLIGHT
TZOFFSETFROM:+0200
TZOFFSETTO:+0300
TZNAME:EEST
DTSTART:20170326T010000
END:DAYLIGHT
BEGIN:STANDARD
TZOFFSETFROM:+0300
TZOFFSETTO:+0200
TZNAME:EET
DTSTART:20171029T010000
END:STANDARD
BEGIN:DAYLIGHT
TZOFFSETFROM:+0200
TZOFFSETTO:+0300
TZNAME:EEST
DTSTART:20180325T010000
END:DAYLIGHT
BEGIN:STANDARD
TZOFFSETFROM:+0300
TZOFFSETTO:+0200
TZNAME:EET
DTSTART:20181028T010000
END:STANDARD
BEGIN:DAYLIGHT
TZOFFSETFROM:+0200
TZOFFSETTO:+0300
TZNAME:EEST
DTSTART:20190331T010000
END:DAYLIGHT
BEGIN:STANDARD
TZOFFSETFROM:+0300
TZOFFSETTO:+0200
TZNAME:EET
DTSTART:20191027T010000
END:STANDARD
BEGIN:DAYLIGHT
TZOFFSETFROM:+0200
TZOFFSETTO:+0300
TZNAME:EEST
DTSTART:20200329T010000
END:DAYLIGHT
BEGIN:STANDARD
TZOFFSETFROM:+0300
TZOFFSETTO:+0200
TZNAME:EET
DTSTART:20201025T010000
END:STANDARD
BEGIN:DAYLIGHT
TZOFFSETFROM:+0200
TZOFFSETTO:+0300
TZNAME:EEST
DTSTART:20210328T010000
END:DAYLIGHT
BEGIN:STANDARD
TZOFFSETFROM:+0300
TZOFFSETTO:+0200
TZNAME:EET
DTSTART:20211031T010000
END:STANDARD
BEGIN:DAYLIGHT
TZOFFSETFROM:+0200
TZOFFSETTO:+0300
TZNAME:EEST
DTSTART:20220327T010000
END:DAYLIGHT
BEGIN:STANDARD
TZOFFSETFROM:+0300
TZOFFSETTO:+0200
TZNAME:EET
DTSTART:20221030T010000
END:STANDARD
BEGIN:DAYLIGHT
TZOFFSETFROM:+0200
TZOFFSETTO:+0300
TZNAME:EEST
DTSTART:20230326T010000
END:DAYLIGHT
BEGIN:STANDARD
TZOFFSETFROM:+0300
TZOFFSETTO:+0200
TZNAME:EET
DTSTART:20231029T010000
END:STANDARD
BEGIN:DAYLIGHT
TZOFFSETFROM:+0200
TZOFFSETTO:+0300
TZNAME:EEST
DTSTART:20240331T010000
END:DAYLIGHT
BEGIN:STANDARD
TZOFFSETFROM:+0300
TZOFFSETTO:+0200
TZNAME:EET
DTSTART:20241027T010000
END:STANDARD
BEGIN:DAYLIGHT
TZOFFSETFROM:+0200
TZOFFSETTO:+0300
TZNAME:EEST
DTSTART:20250330T010000
END:DAYLIGHT
BEGIN:STANDARD
TZOFFSETFROM:+0300
TZOFFSETTO:+0200
TZNAME:EET
DTSTART:20251026T010000
END:STANDARD
BEGIN:DAYLIGHT
TZOFFSETFROM:+0200
TZOFFSETTO:+0300
TZNAME:EEST
DTSTART:20260329T010000
END:DAYLIGHT
BEGIN:STANDARD
TZOFFSETFROM:+0300
TZOFFSETTO:+0200
TZNAME:EET
DTSTART:20261025T010000
END:STANDARD
END:VTIMEZONE
BEGIN:VEVENT
DTSTART;TZID=Europe/Helsinki:20251104T183000
DTEND;TZID=Europe/Helsinki:20251104T193000
DTSTAMP:20260420T215100
CREATED:20251021T194507Z
LAST-MODIFIED:20251021T194507Z
UID:10000237-1762281000-1762284600@www.postcrossingyhdistys.fi
SUMMARY:Sääntömääräinen syyskokous 4.11.2025
DESCRIPTION:Tervetuloa Suomen postcrossingyhdistyksen sääntömääräiseen syyskokoukseen 4.11.2025 klo 18.30 alkaen. Kokous järjestetään etäkokouksena Zoomissa. \nKokousasiakirjat ja ilmoittautumislinkki löytyy Jäsensivustolta. Sivustolle kirjautuminen jäsenrekisterissä olevalla sähköpostiosoitteella ja henkilökohtaisella salasanalla.
URL:https://www.postcrossingyhdistys.fi/tapahtuma/saantomaarainen-syyskokous-4-11-2025/
CATEGORIES:Yhdistyksen kokous
ATTACH;FMTTYPE=image/jpeg:https://www.postcrossingyhdistys.fi/wp-content/uploads/2020/11/syyskokous-2020.jpg
ORGANIZER;CN="Suomen postcrossingyhdistys ry":MAILTO:tapahtumat@postcrossingyhdistys.fi
END:VEVENT
BEGIN:VEVENT
DTSTART;TZID=Europe/Helsinki:20250528T183000
DTEND;TZID=Europe/Helsinki:20250528T193000
DTSTAMP:20260420T215100
CREATED:20250521T172113Z
LAST-MODIFIED:20250521T172113Z
UID:10000235-1748457000-1748460600@www.postcrossingyhdistys.fi
SUMMARY:Sääntömääräinen kevätkokous 28.5.2025
DESCRIPTION:Yhdistyksen sääntömääräinen kevätkokous etäkokouksena Zoomissa keskiviikkona 28.5.2025 klo 18.30 alkaen. \nAsialista ja kokousasiakirjat ovat tutustuttavissa jäsensivustolla. \nIlmoittautuminen jäsensivuston kautta 28.5. klo 18 mennessä.
URL:https://www.postcrossingyhdistys.fi/tapahtuma/saantomaarainen-kevatkokous-28-5-2025/
CATEGORIES:Yhdistyksen kokous
ATTACH;FMTTYPE=image/jpeg:https://www.postcrossingyhdistys.fi/wp-content/uploads/2024/08/yhdistyksen-vuosikokous-ajankohta.jpg
ORGANIZER;CN="Suomen postcrossingyhdistys ry":MAILTO:tapahtumat@postcrossingyhdistys.fi
END:VEVENT
BEGIN:VEVENT
DTSTART;TZID=Europe/Helsinki:20241104T183000
DTEND;TZID=Europe/Helsinki:20241104T200000
DTSTAMP:20260420T215100
CREATED:20240828T091147Z
LAST-MODIFIED:20240828T131123Z
UID:10000212-1730745000-1730750400@www.postcrossingyhdistys.fi
SUMMARY:Yhdistyksen syyskokous 4.11.2024
DESCRIPTION:Yhdistyksen sääntömääräinen syyskokous järjestetään etäkokouksena Zoomissa maanantaina 4.11.2024 klo 18.30 alkaen. \nAsialista julkaistaan myöhemmin ja kokouskutsu lähetetään myös sähköpostitse ohjeineen. \nSyyskokouksen asialistalla sääntöjen mukaan mm. \n\njäsenmaksun suuruus vuodelle 2025\nhallituksen uusien jäsenten valinta vuodelle 2025\nvuoden 2025 toimintasuunnitelman ja talousarvion vahvistaminen
URL:https://www.postcrossingyhdistys.fi/tapahtuma/yhdistyksen-syyskokous-4-11-2024/
CATEGORIES:Yhdistyksen kokous
ATTACH;FMTTYPE=image/jpeg:https://www.postcrossingyhdistys.fi/wp-content/uploads/2024/08/yhdistyksen-vuosikokous-ajankohta.jpg
ORGANIZER;CN="Suomen postcrossingyhdistys ry":MAILTO:tapahtumat@postcrossingyhdistys.fi
END:VEVENT
BEGIN:VEVENT
DTSTART;TZID=Europe/Helsinki:20240518T123000
DTEND;TZID=Europe/Helsinki:20240518T183000
DTSTAMP:20260420T215100
CREATED:20240417T204838Z
LAST-MODIFIED:20240620T085242Z
UID:10000206-1716035400-1716057000@www.postcrossingyhdistys.fi
SUMMARY:Kevätmiitti Jyväskylässä 18.5.2024
DESCRIPTION:Tulossa kevätmiitti ja kevätkokous Jyväskylässä la 18.5.2024!\nTapahtumalippujen myynti tämän sivun alalaidassa päättyy sunnuntaina 5.5. klo 22. \nJyväääskylään? Kyllä! Pitkästä aikaa yhdistyksen miitti on tulossa Keski-Suomeen\, Alvar Aallon kaupunkiin. Hallituksen keskeiset syyt valita Jyväskylä kevätmiitin pitopaikaksi oli ylivoimainen miittipaikan sijainti aivan Matkakeskuksen vieressä ja keskeinen sijainti Suomen kartalla aika monelle jäsenelle tulla. \nLisäksi Suomen Korttipiste osallistuu mukaan korttihulinaan\, pääsemme tutustumaan heidän toimintaan\, tiloihin ja valikoimaan erillisellä retkellä jo edellisenä päivänä. \nMiittimaksu sisältää lauantain ohjelman\, mutta mikäli pääset Jyväskylään jo perjantaina 17.5.\, voit osallistua iltaohjelmaan eli Korttipiste-vierailulle. Järjestämme Korttipisteelle oman bussikuljetuksen\, mutta voit saapua halutessasi myös omin kyydein (Kuormaajantie 17). Korttipisteellä pääset kierrokselle\, tutustumaan Korttipisteen toimintaan ja lopuksi on korttipenkojaiset. Tätä et halua ohittaa! \nPerjantai 17.5.\n\nKlo 17.15 bussi matkakeskuksesta Korttipisteelle \, bussimaksu 5 e kerätään kortilla bussissa\nN. klo 19.45 paluu keskustaan\, jonka jälkeen omakustanteinen ja vapaaehtoinen ruokailu\n\nLauantai 18.5.\nPerjantain ohjelma on vasta alkua\, sillä monen kortteilijan jo lähes pyhiinvaelluspaikka on Jyväskylässä eli legendaarinen Harjun Paperi. He ovat innoissaan päästessään avaamaan meille ekslusiivisesti ovensa lauantaina ennen miittiä ja kokousta jo klo 9 alkaen. Vierailu Harjun Paperiin on omatoiminen. Harjun Paperi sijaitsee osoitteessa Yliopistonkatu 6 B. \nEtukäteen tehdyn nettikaupan tilauksen voi myös noutaa kaupalta ja säästät sekä postituskuluissa että ajassa\, kun tilauksesi on jo valmiina odottamassa. Jäsenkortilla saat lauantaina korotetun alennuksen normaalihintaisista postikorteista eli -15%. Puodilla on myös arvonta\, jossa voit voittaa 70€ lahjakortin Harjun Paperiin. Välimatka Harmoonin ja Harjun Paperin välillä on n. 1\,1 km kävellen. Huom. perjantainakin voi Harjun Paperissa käydä – pitävät ovet auki klo 17.30 asti. \nMiitti pidetään Jyväskylän Matkakeskusta vastapäätä ravintola Harmoonissa\, Harmoonisalissa\, sisäänkäynti Hannikaisenkatu 39. (Huom. esteetön sisäänpääsy on terassin kautta). Matkakeskuksen ja Harmoonin välillä on n. pari sataa metriä. \nHarmooni on 1910 rakennettu vanha Halosen harmoonitehdas\, yksi Jyväskylän maamerkeistä ja rakennus edustaa jugendtyyliä. Miittitilan lisäksi käytössämme on myös rennommin sisustettu Oskar kabinetti\, jossa on myös baari sekä mahdollista tutustua myyntitarjontaan. Oskar kabinetista on käynti Harmoonin päädyssä olevalle yksityiselle puutarhaterassille\, jossa on pieniä pöytäryhmiä puiden varjossa (terassi aurinkoisessa etelänpuoleisessa päädyssä). Terassi on myös käytössämme. \nLauantain aikataulu (muutokset mahdollisia): \n\nKlo 9 -> omatoiminen tutustuminen Harjun paperiin halukkaille\nKlo 11.30-12.30 miitti-ilmoittautuminen\nKlo 12.30-13.30 ruokailu\nKlo 13.30-18.30 miitti\n\nRuokailu (ilmoittautumisen yhteydessä kerätään ruoka-aineallergiat): \n\nLohi / lihakeitto (valitse ilmoittautuessasi jompi kumpi)\nLeikkeleet\, juusto\, kurkku\, tomaatti\nRaikas salaatti ja salaatinkastike\nLeivät: ruisleipä\, talon vaalea leipä\, levite\nJälkiruoka: kahvi/tee\n\nVoit ilmoittautua mukaan sekä kokoukseen että miittiin (ilmoittautuminen paikan päällä klo 11-11.25) tai pelkkään miittiin (ilmoittautuminen klo 12.30-12.50). Huom. Harmoonisaliin ei pääse kesken kokouksen klo 11.30-12.30. \nMiitin hinta on 39 euroa ja se sisältää ruokailun\, tilavuokran sekä miitissä jaettavan materiaalin. Mikäli osallistut myös perjantain retkeen bussikyydillä on sen hinta 5 euroa. \nYhteydet\nHarmooni sijaitsee Jyväskylän Matkakeskusta vastapäätä osoitteessa Hannikaisenkatu 39. \nSaapuminen perjantaina Matkakeskukseen (alla huomioitu sopivimmat yhteydet) \n\nJuna Helsingistä klo 13.03\, Tampereelta 15.07\, Porista 12.12\, Turusta klo 13.05\, Vaasasta klo 12.47 (huom. saapuva juna Jyväskylään on kaikilla sama IC145) – saapuminen Jyväskylään klo 16.36\nJuna Oulusta klo 10.07-16.09\nOnnibus julkaisee aikataulunsa kuukautta ennen. Tämän hetkisten aikataulujen mukaan näillä vuoroilla pääsisi Jyväskylään\, jos jatkuvat myös toukokuussa\, mutta tarkista tilanne vielä kun liput tulevat myyntiin:\n\nBussi Turku–Tampere-Jyväskylä: 12.25 Turku\, 14.45 Tampere\, 16.50 Jyväskylä\nBussi Helsinki–Lahti-Jyväskylä: 13.20 Helsinki\, 14.50 Lahti\, 16.50 Jyväskylä\nBussi Oulu-Jyväskylä: 11.40 Oulu\, 16.10 Jyväskylä\nBussi Kuopio-Jyväskylä: 14.10 Kuopio\, 16.10 Jyväskylä\n\n\n\nSaapuminen lauantaina Matkakeskukseen (alla huomioitu sopivimmat yhteydet) \n\nJuna Helsingistä 7.01\, Tampereelta 9.07\, Porista 7.17\, Turusta 6.54\, Vaasasta klo 6.44 – saapuminen Pendolino 155 Jyväskylään klo 10.39\n\nSaapuminen autolla \nTutustu Jyväskylän pysäköintikarttaan verkossa. \nLähimmät pysäköintitalot \n\nP-Matkakeskus (Hannikaisenkatu 22) ja P-Asema (Väinönkatu 8)\nHinta kummassakin 0-2 h klo 6-18 on 1 € / 30 min.\, seuraavat tunnit klo 6-18 1 € / h\, klo 18-6 2 h jakso 1 €/ 2h. Vrk 16 €.\n\nMiittikortti\nVuoden taiteilijamme Katja Saario on kuvittanut Kevätmiittiimme Kevään merkkejä -nimisen postikortin. Kortti on jo tilattavissa verkkokaupassamme. \nKevätmiittiin osallistuville perustetaan Whatsapp-ryhmä\, jossa voi sopia yhteisistä kulkemisista\, mahdollisista majoituksista jne. \nJyväskylässä nähdään! \nt. miittitiimi Sanna ja Madrugada
URL:https://www.postcrossingyhdistys.fi/tapahtuma/kevatmiitti-jyvaskylassa-18-5-2024/
LOCATION:Ravintola Harmooni\, Hannikaisenkatu 39\, Jyväskylä\, 40100\, Suomi
CATEGORIES:Miitti
ATTACH;FMTTYPE=image/jpeg:https://www.postcrossingyhdistys.fi/wp-content/uploads/2024/04/kevatmiitti-jyvaskylassa-18-5-2024-tapahtuma.jpg
ORGANIZER;CN="Suomen postcrossingyhdistys ry":MAILTO:tapahtumat@postcrossingyhdistys.fi
END:VEVENT
BEGIN:VEVENT
DTSTART;TZID=Europe/Helsinki:20231104T100000
DTEND;TZID=Europe/Helsinki:20231104T113000
DTSTAMP:20260420T215100
CREATED:20230103T103216Z
LAST-MODIFIED:20230927T140741Z
UID:10000196-1699092000-1699097400@www.postcrossingyhdistys.fi
SUMMARY:Sääntömääräinen Syyskokous Tampereella 4.11.2023
DESCRIPTION:Lisätiedot ja ilmoittautuminen
URL:https://www.postcrossingyhdistys.fi/tapahtuma/saantomaarainen-syyskokous-tampereella-4-11-2023/
LOCATION:Juhlatalo Hovi\, Sukkavartaankatu 9\, Tampere\, 33100\, Suomi
CATEGORIES:Yhdistyksen kokous
ORGANIZER;CN="Suomen postcrossingyhdistys ry":MAILTO:tapahtumat@postcrossingyhdistys.fi
GEO:61.5030155;23.7672951
X-APPLE-STRUCTURED-LOCATION;VALUE=URI;X-ADDRESS=Juhlatalo Hovi Sukkavartaankatu 9 Tampere 33100 Suomi;X-APPLE-RADIUS=500;X-TITLE=Sukkavartaankatu 9:geo:23.7672951,61.5030155
END:VEVENT
BEGIN:VEVENT
DTSTART;TZID=Europe/Helsinki:20230318T130000
DTEND;TZID=Europe/Helsinki:20230318T133000
DTSTAMP:20260420T215100
CREATED:20221231T210006Z
LAST-MODIFIED:20230225T182653Z
UID:10000186-1679144400-1679146200@www.postcrossingyhdistys.fi
SUMMARY:Sääntömääräinen Kevätkokous Oulussa 18.3.2023
DESCRIPTION:Lisätiedot ja ilmoittautuminen tästä linkistä
URL:https://www.postcrossingyhdistys.fi/tapahtuma/saantomaarainen-kevatkokous-oulussa-18-3-2023/
CATEGORIES:Yhdistyksen kokous
ORGANIZER;CN="Suomen postcrossingyhdistys ry":MAILTO:tapahtumat@postcrossingyhdistys.fi
END:VEVENT
BEGIN:VEVENT
DTSTART;TZID=Europe/Helsinki:20221105T110000
DTEND;TZID=Europe/Helsinki:20221105T113000
DTSTAMP:20260420T215100
CREATED:20220926T133052Z
LAST-MODIFIED:20220926T133052Z
UID:10000176-1667646000-1667647800@www.postcrossingyhdistys.fi
SUMMARY:Sääntömääräinen syyskokous
DESCRIPTION:Yhdistyksen sääntömääräinen syyskokous pidetään Hämeenlinnassa\, ennen Halloweenmiittiä\, lauantaina 5.11. \nKokous on vain yhdistyksen jäsenille. \nILMOITTAUTUMINEN HALLOWEENMIITIN ILMOITTAUTUMISLOMAKKEELLA
URL:https://www.postcrossingyhdistys.fi/tapahtuma/saantomaarainen-syyskokous/
LOCATION:Hämeen linna\, Kustaa III:n katu 6\, Hämeenlinna\, 13100\, Suomi
CATEGORIES:Yhdistyksen kokous
ORGANIZER;CN="Suomen postcrossingyhdistys ry":MAILTO:tapahtumat@postcrossingyhdistys.fi
GEO:61.0036415;24.4592942
X-APPLE-STRUCTURED-LOCATION;VALUE=URI;X-ADDRESS=Hämeen linna Kustaa III:n katu 6 Hämeenlinna 13100 Suomi;X-APPLE-RADIUS=500;X-TITLE=Kustaa III:n katu 6:geo:24.4592942,61.0036415
END:VEVENT
BEGIN:VEVENT
DTSTART;TZID=Europe/Helsinki:20220423T113000
DTEND;TZID=Europe/Helsinki:20220424T140000
DTSTAMP:20260420T215100
CREATED:20220320T110755Z
LAST-MODIFIED:20220907T084314Z
UID:10000171-1650713400-1650808800@www.postcrossingyhdistys.fi
SUMMARY:Kevätkokous ja kevätmiitti Raumalla
DESCRIPTION:Tervetuloa yhdistyksen kevätkokoukseen ja kevätmiittiin Raumalle! \nOHJELMA JA ILMOITTAUTUMINEN
URL:https://www.postcrossingyhdistys.fi/tapahtuma/kevatkokous-ja-kevatmiitti-raumalla-2022/
LOCATION:Etappi*22*\, Satamakatu 22 D\, Rauma\, Suomi
CATEGORIES:Miitti,Yhdistyksen kokous
ORGANIZER;CN="Suomen postcrossingyhdistys ry":MAILTO:tapahtumat@postcrossingyhdistys.fi
GEO:61.1281661;21.485794
X-APPLE-STRUCTURED-LOCATION;VALUE=URI;X-ADDRESS=Etappi*22* Satamakatu 22 D Rauma Suomi;X-APPLE-RADIUS=500;X-TITLE=Satamakatu 22 D:geo:21.485794,61.1281661
END:VEVENT
BEGIN:VEVENT
DTSTART;TZID=Europe/Helsinki:20211106T110000
DTEND;TZID=Europe/Helsinki:20211106T190000
DTSTAMP:20260420T215100
CREATED:20211009T122108Z
LAST-MODIFIED:20211009T122108Z
UID:10000165-1636196400-1636225200@www.postcrossingyhdistys.fi
SUMMARY:Syyskokous ja Halloweenmiitti Tampereella
DESCRIPTION:Yhdistyksen sääntömääräinen syyskokous ja Halloweenmiitti järjestetään Tampereella Suomalaisen Klubin ravintolassa. \nLisätiedot ja ilmoittautuminen
URL:https://www.postcrossingyhdistys.fi/tapahtuma/syyskokous-ja-halloweenmiitti-tampereella/
LOCATION:Ravintola Suomalainen Klubi\, Puutarhakatu 13\, Tampere\, 33210\, Suomi
CATEGORIES:Miitti,Yhdistyksen kokous
ORGANIZER;CN="Suomen postcrossingyhdistys ry":MAILTO:tapahtumat@postcrossingyhdistys.fi
GEO:61.4990491;23.7572591
X-APPLE-STRUCTURED-LOCATION;VALUE=URI;X-ADDRESS=Ravintola Suomalainen Klubi Puutarhakatu 13 Tampere 33210 Suomi;X-APPLE-RADIUS=500;X-TITLE=Puutarhakatu 13:geo:23.7572591,61.4990491
END:VEVENT
BEGIN:VEVENT
DTSTART;TZID=Europe/Helsinki:20210918T163000
DTEND;TZID=Europe/Helsinki:20210918T170000
DTSTAMP:20260420T215100
CREATED:20210903T103604Z
LAST-MODIFIED:20210903T103604Z
UID:10000164-1631982600-1631984400@www.postcrossingyhdistys.fi
SUMMARY:Kevätkokous 18.9.2021
DESCRIPTION:Yhdistyksen sääntömääräinen kevätkokous järjestetään etäkokouksena lauantaina 18.9.2021 kello 16.30. \nJärjestelyjen vuoksi vaadimme ennakkoilmoittautumisen sunnuntaihin 12.9. kello 24 mennessä. \nKokouksen aineisto ja ilmoittautumislomake on jäsensivustolla (kirjautuminen jäsenrekisterissä olevalla sähköpostiosoitteella ja olemassa olevalla\, tai ensimmäisellä kerralla luotavalla salasanalla). \nTervetuloa!\nHallitus
URL:https://www.postcrossingyhdistys.fi/tapahtuma/kevatkokous-18-9-2021/
ORGANIZER;CN="Suomen postcrossingyhdistys ry":MAILTO:tapahtumat@postcrossingyhdistys.fi
END:VEVENT
BEGIN:VEVENT
DTSTART;TZID=Europe/Helsinki:20201121T153000
DTEND;TZID=Europe/Helsinki:20201121T170000
DTSTAMP:20260420T215100
CREATED:20201111T112656Z
LAST-MODIFIED:20201111T112656Z
UID:10000159-1605972600-1605978000@www.postcrossingyhdistys.fi
SUMMARY:Yhdistyksen syyskokous 2020
DESCRIPTION:Sääntömääräinen syyskokous järjestetään koronatilanteen vuoksi etäkokouksena lauantaina 21.11. klo 15.30. \nTarkemmat ohjeet\, kokousasiakirjat\, ehdokasesittelyt ja ilmoittautumislomake jäsensivuilla (kirjautuminen jäsenrekisterissä olevalla sähköpostiosoitteella ja salasanalla). \nIlmoittautuminen 15.11. klo 24 mennessä. \nMyöhemmin samana päivänä\, virtuaalinen kansainvälinen miitti klo 18 alkaen. Ilmoittautuminen cybermiittien sivulla.
URL:https://www.postcrossingyhdistys.fi/tapahtuma/yhdistyksen-syyskokous-2020/
CATEGORIES:Yhdistyksen kokous
ORGANIZER;CN="Suomen postcrossingyhdistys ry":MAILTO:tapahtumat@postcrossingyhdistys.fi
END:VEVENT
BEGIN:VEVENT
DTSTART;TZID=Europe/Helsinki:20200926T110000
DTEND;TZID=Europe/Helsinki:20200926T180000
DTSTAMP:20260420T215100
CREATED:20200307T120800Z
LAST-MODIFIED:20200922T171901Z
UID:10000147-1601118000-1601143200@www.postcrossingyhdistys.fi
SUMMARY:Yhdistyksen kevätkokous ja syysmiitti
DESCRIPTION:Yhdistyksen kevätmiitti on siirretty pidettäväksi 26.9.2020 Hämeenlinnassa syysmiitin yhteyteen. \nLisätietoa ohjelmasta ja ilmoittautuminen 16.9. mennessä
URL:https://www.postcrossingyhdistys.fi/tapahtuma/syysmiitti-ja-yhdistyksen-kevatkokous-2020/
LOCATION:Wetterhoffin talo\, Palokunnankatu 9\, Hämeenlinna\, 13100\, Suomi
CATEGORIES:Miitti,Yhdistyksen kokous
ORGANIZER;CN="Suomen postcrossingyhdistys ry":MAILTO:tapahtumat@postcrossingyhdistys.fi
GEO:60.9956247;24.4682882
X-APPLE-STRUCTURED-LOCATION;VALUE=URI;X-ADDRESS=Wetterhoffin talo Palokunnankatu 9 Hämeenlinna 13100 Suomi;X-APPLE-RADIUS=500;X-TITLE=Palokunnankatu 9:geo:24.4682882,60.9956247
END:VEVENT
BEGIN:VEVENT
DTSTART;TZID=Europe/Helsinki:20191102T113000
DTEND;TZID=Europe/Helsinki:20191102T210000
DTSTAMP:20260420T215100
CREATED:20190622T182729Z
LAST-MODIFIED:20191009T072513Z
UID:10000142-1572694200-1572728400@www.postcrossingyhdistys.fi
SUMMARY:Halloweenmiitti
DESCRIPTION:Ohjelma\nklo 12.00 – 13.00 Suomen postcrossingyhdistyksen syyskokous \n\nvain yhdistyksen jäsenille\nvalitaan yhdistykselle uusi puheenjohtaja kaudelle 2020-2021\nvalitaan hallitukseen erovuoroisten tilalle uudet jäsenet kaudelle 2020-2021\nvahvistetaan toimintasuunnitelma ja talousarvio vuodelle 2020\n\nklo 13.00 – 21.00 Halloweenmiitti \n\nruokailu noutopöydästä\nPostcrossingmiitti (lähetykset toimitetaan leimattavaksi Muumimuseon erikoisleimalla)\n\nMuuta tietoa\n\nTapahtumaan julkaistaan erikoispostikortti\nMiitti on avoin kaikille postcrossaajille\n\nTARKEMPI OHJELMA JA ILMOITTAUTUMINEN
URL:https://www.postcrossingyhdistys.fi/tapahtuma/halloweenmiitti2019/
LOCATION:Ravintola Suomalainen Klubi\, Puutarhakatu 13\, Tampere\, 33210\, Suomi
CATEGORIES:Miitti,Yhdistyksen kokous
ATTACH;FMTTYPE=image/jpeg:https://www.postcrossingyhdistys.fi/wp-content/uploads/2019/06/halloween2019.jpg
ORGANIZER;CN="Suomen postcrossingyhdistys ry":MAILTO:tapahtumat@postcrossingyhdistys.fi
GEO:61.4990491;23.7572591
X-APPLE-STRUCTURED-LOCATION;VALUE=URI;X-ADDRESS=Ravintola Suomalainen Klubi Puutarhakatu 13 Tampere 33210 Suomi;X-APPLE-RADIUS=500;X-TITLE=Puutarhakatu 13:geo:23.7572591,61.4990491
END:VEVENT
BEGIN:VEVENT
DTSTART;TZID=Europe/Helsinki:20190406T120000
DTEND;TZID=Europe/Helsinki:20190406T180000
DTSTAMP:20260420T215100
CREATED:20190107T104000Z
LAST-MODIFIED:20190211T153314Z
UID:10000139-1554552000-1554573600@www.postcrossingyhdistys.fi
SUMMARY:Turku Postcrossing Meetup 2019 ja yhdistyksen kevätkokous
DESCRIPTION:Tervetuloa postcrossingyhdistyksen kevätkokoukseen ja vuoden ensimmäiseen suurmiittiin Turkuun\, Turun linnaan. Yksityiskohdat tarkentuu helmikuussa\, mutta miittiohjelmaan kuuluu ruokailu ja kahvitarjoilu. Myös miittipostikortti tulee saataville. Miitistä lähtevät postikortit saavat Turun linnan erikoisleiman. \nLISÄTIEDOT JA ILMOITTAUTUMINEN\nBriefly in English\nWelcome to Turku Postcrossing Meetup which will be arranged at historical Turku Castle. Details will be available in early February. Meetup will include a dinner. Complimentary coffee. A special meetup postcard will be available. All postcards sent from Turku Castle will have a special cancellation. \nDETAILS AND REGISTRATION
URL:https://www.postcrossingyhdistys.fi/tapahtuma/turku2019/
LOCATION:Turun linna\, Linnankatu 80\, Turku\, 20100\, Suomi
CATEGORIES:Miitti,Yhdistyksen kokous
ATTACH;FMTTYPE=image/jpeg:https://www.postcrossingyhdistys.fi/wp-content/uploads/2019/01/turkulinna2019.jpg
ORGANIZER;CN="Suomen postcrossingyhdistys ry":MAILTO:tapahtumat@postcrossingyhdistys.fi
GEO:60.4355967;22.2288143
X-APPLE-STRUCTURED-LOCATION;VALUE=URI;X-ADDRESS=Turun linna Linnankatu 80 Turku 20100 Suomi;X-APPLE-RADIUS=500;X-TITLE=Linnankatu 80:geo:22.2288143,60.4355967
END:VEVENT
BEGIN:VEVENT
DTSTART;TZID=Europe/Helsinki:20180421T120000
DTEND;TZID=Europe/Helsinki:20180421T160000
DTSTAMP:20260420T215100
CREATED:20180402T182137Z
LAST-MODIFIED:20180403T193404Z
UID:10000134-1524312000-1524326400@www.postcrossingyhdistys.fi
SUMMARY:Kevätretki Hämeenlinnaan
DESCRIPTION:Tervetuloa kevätretkelle Hämeenlinnaan\nKevätretkeilemme Palettiin Hämeenlinnaan\, jossa penkojaiset Korttien talon ja Paletin postikorteista\, sekä kiertokäyntejä Paletin tuotantotiloissa Markku Laakson opastamana. \nMarkku Laakso kertoo aluksi Paletin historiasta ja nykypäivästä. \nEsittelyn jälkeen Paletti tarjoaa kevätretkeilijöille lounaan noutopöydästä. \nLounaan jälkeen Suomen postcrosingyhdistyksen kevätkokous\, jonka jälkeen loppupäivän ajan penkojaiset ja kiertokäynnit ryhmissä. Penkojaisista löydät todella edullisesti postikorttiaarteita. Varaa rahaa\, voit maksaa myös kortilla. \nMAKSUTON (sis. lounas ja bussikuljetukset Hämeenlinnan asemilta Palettiin ja takaisin)! \nBussikuljetus Hämeenlinnan rautatieasemalta klo 11.30 linja-autoaseman kautta\, ja paluukuljetus Paletilta klo 16.15 rautatieasemalle linja-autoaseman kautta. Aikataulut sopivat hyvin Turusta\, etelästä ja pohjoisesta tuleviin juniin. \n  \nIlmoittaudu su 15.4. klo 23 mennessäEdellytämme ilmoittautumista tarjoilujen ja kuljetusten mitoittamiseksi. Tämä tapahtuma on vain Suomen postcrossingyhdistyksen jäsenille kevätkokouksen vuoksi.
URL:https://www.postcrossingyhdistys.fi/tapahtuma/kevatretki-hameenlinnaan-2018/
LOCATION:Paletti\, Pietiläntie 6\, Hämeenlinna\, 13130\, Suomi
CATEGORIES:Jäsenmatka,Yhdistyksen kokous
ATTACH;FMTTYPE=image/jpeg:https://www.postcrossingyhdistys.fi/wp-content/uploads/2018/04/yhteystiedot-matalat-herot.jpg
ORGANIZER;CN="Suomen postcrossingyhdistys ry":MAILTO:tapahtumat@postcrossingyhdistys.fi
GEO:61.014774;24.403188
X-APPLE-STRUCTURED-LOCATION;VALUE=URI;X-ADDRESS=Paletti Pietiläntie 6 Hämeenlinna 13130 Suomi;X-APPLE-RADIUS=500;X-TITLE=Pietiläntie 6:geo:24.403188,61.014774
END:VEVENT
BEGIN:VEVENT
DTSTART;TZID=Europe/Helsinki:20171104T130000
DTEND;TZID=Europe/Helsinki:20171104T220000
DTSTAMP:20260420T215100
CREATED:20170821T185359Z
LAST-MODIFIED:20171029T220427Z
UID:10000131-1509800400-1509832800@www.postcrossingyhdistys.fi
SUMMARY:Halloweenmiitti ja yhdistyksen syyskokous
DESCRIPTION:Tervetuloa Helsinkiin yhdistyksen syyskokoukseen\, sekä Halloweenmiittiin!\n \nTervetuloa viettämään mukavaa postcrossingpäivää Suomen Filatelistiseuran tiloihin os. Lönnrotinkatu 32 B (katutaso). \nYhdistys tarjoaa pientä purtavaa sekä syyskokouksessa\, että Halloweenmiitissä. Illallinen ravintola Italossa on omakustanteinen. \nOhjelma\n\n13.00 – 14.00 Yhdistyksen syyskokous (jäsenille)\, tule paikalle klo 12.50 mennessä\n14.00 – 18.00 Halloweenmiitti (avoin kaikille postcrossaajille)\n18.30 – Illallinen ravintola Italossa\, Forumin Kukontorilla\n\nMiittikortti\nMiittikortin on taiteillut Titta Lindström\, ja kortin on painanut Paletti. Kortteja myydään 10 kappaleen pakkauksissa. Yhden pakkauksen hinta on 5€. \nIlmoittautuminen/tilaus\nIlmoittautuminen on sulkeutunut. \n 
URL:https://www.postcrossingyhdistys.fi/tapahtuma/halloweenmiitti-ja-yhdistyksen-syyskokous/
LOCATION:Suomen Filatelistiseura\, Lönnrotinkatu 32\, Helsinki\, Suomi
CATEGORIES:Miitti,Yhdistyksen kokous
ATTACH;FMTTYPE=image/jpeg:https://www.postcrossingyhdistys.fi/wp-content/uploads/2017/08/halloweenmiitti2017omasivu.jpg
ORGANIZER;CN="Suomen postcrossingyhdistys ry":MAILTO:tapahtumat@postcrossingyhdistys.fi
GEO:60.1637833;24.93154
X-APPLE-STRUCTURED-LOCATION;VALUE=URI;X-ADDRESS=Suomen Filatelistiseura Lönnrotinkatu 32 Helsinki Suomi;X-APPLE-RADIUS=500;X-TITLE=Lönnrotinkatu 32:geo:24.93154,60.1637833
END:VEVENT
BEGIN:VEVENT
DTSTART;TZID=Europe/Helsinki:20160402T103000
DTEND;TZID=Europe/Helsinki:20160402T120000
DTSTAMP:20260420T215100
CREATED:20160206T123348Z
LAST-MODIFIED:20161026T142728Z
UID:10000120-1459593000-1459598400@www.postcrossingyhdistys.fi
SUMMARY:Suomen postcrossingyhdistys ry:n vuosikokous
DESCRIPTION:Vuosikokous 2.4. Vapriikissa\nYhdistyksen vuosikokous järjestetään lauantaina 2.4.2016 Tampereella klo 10.30-12.00 Vapriikissa\, Postimuseon Työpajatilassa. \nKokoukseen ovat tervetulleita kaikki Suomen postcrossingyhdistys ry:n jäsenet joiden jäsenmaksu on maksettu ennen kokouksen alkua. Osallistumisoikeus (jäsenyyden voimassaolo) tarkastetaan kokousrekisteröitymisen yhteydessä. Mikäli jäsenmaksu on maksamatta\, sen voi maksaa ennen kokouksen alkua myös kokouspaikalla rahastonhoitajalle kokousrekisteröitymisen yhteydessä. \nEsityslista liitteineen on toimitettu jäsenkirjeenä kaikille yhdistyksen jäsenille. Esityslistalla mm \n\ntoimintasuunnitelman ja talousarvion hyväksyminen vuosille 2016 ja 2017\nvuoden 2017 jäsenmaksusta päättäminen\n1-2 hallituksen jäsenen valitseminen kuluvalle kaudelle 2016-2017\n\nOhjelma\nklo 10.00 – 10.30 \n\nkokousrekisteröityminen Vapriikin aulassa yhdistyksen deskillä\nsaat kokouspaketin johon kuuluu mm kahvilipuke\, jolla voit nauttia kokouskahvit joko ennen kokousta tai sen jälkeen Vapriikin kahviossa\n\nklo 10.30 – 12.00 \n\nyhdistyksen vuosikokous\narvomme pieniä palkintoja kokoukseen osallistujien kesken\n\nHuom! Hallituksen jäsenillä\, varajäsenillä (ml. vuosikokouksessa valittavat 1-2 uutta hallituksen jäsentä) päivä jatkuu klo 12.30 – 17.30 lounaalla ja työpajalla jossa suunnitellaan ja sovitaan toiminnasta ja tehtävistä kuluvalle vuodelle. \nEnnakkoilmoittautuminen\nJotta voimme varmistua että kokoustila on riittävä\, pyydämme ennakkoilmoittautumisen 31.3. klo 23.45 mennessä alla olevalla lomakkeella.
URL:https://www.postcrossingyhdistys.fi/tapahtuma/suomen-postcrossingyhdistys-ryn-vuosikokous/
LOCATION:Postimuseo\, Alaverstaanraitti 5\, Tampere\, 33100\, Suomi
CATEGORIES:Yhdistyksen kokous
ORGANIZER;CN="Suomen postcrossingyhdistys ry":MAILTO:tapahtumat@postcrossingyhdistys.fi
GEO:61.5030142;23.7601947
X-APPLE-STRUCTURED-LOCATION;VALUE=URI;X-ADDRESS=Postimuseo Alaverstaanraitti 5 Tampere 33100 Suomi;X-APPLE-RADIUS=500;X-TITLE=Alaverstaanraitti 5:geo:23.7601947,61.5030142
END:VEVENT
END:VCALENDAR