BEGIN:VCALENDAR
VERSION:2.0
PRODID:-//Suomen postcrossingyhdistys ry - ECPv6.15.20//NONSGML v1.0//EN
CALSCALE:GREGORIAN
METHOD:PUBLISH
X-ORIGINAL-URL:https://www.postcrossingyhdistys.fi
X-WR-CALDESC:Tapahtumat Suomen postcrossingyhdistys ry
REFRESH-INTERVAL;VALUE=DURATION:PT1H
X-Robots-Tag:noindex
X-PUBLISHED-TTL:PT1H
BEGIN:VTIMEZONE
TZID:Europe/Helsinki
BEGIN:DAYLIGHT
TZOFFSETFROM:+0200
TZOFFSETTO:+0300
TZNAME:EEST
DTSTART:20230326T010000
END:DAYLIGHT
BEGIN:STANDARD
TZOFFSETFROM:+0300
TZOFFSETTO:+0200
TZNAME:EET
DTSTART:20231029T010000
END:STANDARD
BEGIN:DAYLIGHT
TZOFFSETFROM:+0200
TZOFFSETTO:+0300
TZNAME:EEST
DTSTART:20240331T010000
END:DAYLIGHT
BEGIN:STANDARD
TZOFFSETFROM:+0300
TZOFFSETTO:+0200
TZNAME:EET
DTSTART:20241027T010000
END:STANDARD
BEGIN:DAYLIGHT
TZOFFSETFROM:+0200
TZOFFSETTO:+0300
TZNAME:EEST
DTSTART:20250330T010000
END:DAYLIGHT
BEGIN:STANDARD
TZOFFSETFROM:+0300
TZOFFSETTO:+0200
TZNAME:EET
DTSTART:20251026T010000
END:STANDARD
END:VTIMEZONE
BEGIN:VEVENT
DTSTART;TZID=Europe/Helsinki:20240420T100000
DTEND;TZID=Europe/Helsinki:20240420T160000
DTSTAMP:20260424T025325
CREATED:20240122T143141Z
LAST-MODIFIED:20240317T145726Z
UID:10000203-1713607200-1713628800@www.postcrossingyhdistys.fi
SUMMARY:14. Korttien Tarinat Postikorttifestivaali 20.4.2024
DESCRIPTION:Suomen suurin postikorttitapahtuma\, Korttien Tarinat Postikorttifestivaali jo 14. kerran Hämeenlinnan Verkatehtaalla. Kymmeniä kuvittajia\, taiteilijoita\, valokuvaajia\, kauppiaita\, kustantajia\, yhdistyksiä tuhansine postikortteineen. Oheisohjelmaa. Erikoisleimaus. \nOheistapahtumana Oval Point keräilytapahtuma: postimerkkejä\, keräilypostikortteja… \nFestivaali on avoinna yleisölle klo 10-16. \nVapaa pääsy.
URL:https://www.postcrossingyhdistys.fi/tapahtuma/14-korttien-tarinat-postikorttifestivaali-20-4-2024/
LOCATION:Verkatehdas\, Paasikiventie 2 \, Hämeenlinna\, Suomi
CATEGORIES:Postikorttitapahtuma
ATTACH;FMTTYPE=image/jpeg:https://www.postcrossingyhdistys.fi/wp-content/uploads/2024/01/korttien-tarinat-postikorttifestivaali-20-4-2024-tapahtuma.jpg
ORGANIZER;CN="Korttien tarinat osuuskunta":MAILTO:info@korttientarinat.fi
GEO:60.9972219;24.4769909
X-APPLE-STRUCTURED-LOCATION;VALUE=URI;X-ADDRESS=Verkatehdas Paasikiventie 2  Hämeenlinna Suomi;X-APPLE-RADIUS=500;X-TITLE=Paasikiventie 2:geo:24.4769909,60.9972219
END:VEVENT
END:VCALENDAR