BEGIN:VCALENDAR
VERSION:2.0
PRODID:-//Suomen postcrossingyhdistys ry - ECPv6.15.20//NONSGML v1.0//EN
CALSCALE:GREGORIAN
METHOD:PUBLISH
X-ORIGINAL-URL:https://www.postcrossingyhdistys.fi
X-WR-CALDESC:Tapahtumat Suomen postcrossingyhdistys ry
REFRESH-INTERVAL;VALUE=DURATION:PT1H
X-Robots-Tag:noindex
X-PUBLISHED-TTL:PT1H
BEGIN:VTIMEZONE
TZID:Europe/Helsinki
BEGIN:DAYLIGHT
TZOFFSETFROM:+0200
TZOFFSETTO:+0300
TZNAME:EEST
DTSTART:20230326T010000
END:DAYLIGHT
BEGIN:STANDARD
TZOFFSETFROM:+0300
TZOFFSETTO:+0200
TZNAME:EET
DTSTART:20231029T010000
END:STANDARD
BEGIN:DAYLIGHT
TZOFFSETFROM:+0200
TZOFFSETTO:+0300
TZNAME:EEST
DTSTART:20240331T010000
END:DAYLIGHT
BEGIN:STANDARD
TZOFFSETFROM:+0300
TZOFFSETTO:+0200
TZNAME:EET
DTSTART:20241027T010000
END:STANDARD
BEGIN:DAYLIGHT
TZOFFSETFROM:+0200
TZOFFSETTO:+0300
TZNAME:EEST
DTSTART:20250330T010000
END:DAYLIGHT
BEGIN:STANDARD
TZOFFSETFROM:+0300
TZOFFSETTO:+0200
TZNAME:EET
DTSTART:20251026T010000
END:STANDARD
END:VTIMEZONE
BEGIN:VEVENT
DTSTART;TZID=Europe/Helsinki:20240604T160000
DTEND;TZID=Europe/Helsinki:20240609T100000
DTSTAMP:20260420T101838
CREATED:20240306T190943Z
LAST-MODIFIED:20240306T191251Z
UID:10000204-1717516800-1717927200@www.postcrossingyhdistys.fi
SUMMARY:Jäsenmatka Öölantiin\, Ruotsiin 4.-9.6.2024
DESCRIPTION:Tervetuloa vuotuiselle kesän strattaavalle Postcrossingseikkailulle. Tänä vuonna matkaamme Öölantiin\, Ruotsiin. \nLISÄTIEDOT JA ILMOITTAUTUMINEN
URL:https://www.postcrossingyhdistys.fi/tapahtuma/jasenmatka-oolantiin-ruotsiin-4-9-6-2024/
CATEGORIES:Jäsenmatka,Miitti
ATTACH;FMTTYPE=image/jpeg:https://www.postcrossingyhdistys.fi/wp-content/uploads/2024/03/jasenmatka-oolantiin-2024.jpg
ORGANIZER;CN="Suomen postcrossingyhdistys ry":MAILTO:tapahtumat@postcrossingyhdistys.fi
END:VEVENT
END:VCALENDAR