BEGIN:VCALENDAR
VERSION:2.0
PRODID:-//Suomen postcrossingyhdistys ry - ECPv6.15.20//NONSGML v1.0//EN
CALSCALE:GREGORIAN
METHOD:PUBLISH
X-WR-CALNAME:Suomen postcrossingyhdistys ry
X-ORIGINAL-URL:https://www.postcrossingyhdistys.fi
X-WR-CALDESC:Tapahtumat Suomen postcrossingyhdistys ry
REFRESH-INTERVAL;VALUE=DURATION:PT1H
X-Robots-Tag:noindex
X-PUBLISHED-TTL:PT1H
BEGIN:VTIMEZONE
TZID:Europe/Helsinki
BEGIN:DAYLIGHT
TZOFFSETFROM:+0200
TZOFFSETTO:+0300
TZNAME:EEST
DTSTART:20230326T010000
END:DAYLIGHT
BEGIN:STANDARD
TZOFFSETFROM:+0300
TZOFFSETTO:+0200
TZNAME:EET
DTSTART:20231029T010000
END:STANDARD
BEGIN:DAYLIGHT
TZOFFSETFROM:+0200
TZOFFSETTO:+0300
TZNAME:EEST
DTSTART:20240331T010000
END:DAYLIGHT
BEGIN:STANDARD
TZOFFSETFROM:+0300
TZOFFSETTO:+0200
TZNAME:EET
DTSTART:20241027T010000
END:STANDARD
BEGIN:DAYLIGHT
TZOFFSETFROM:+0200
TZOFFSETTO:+0300
TZNAME:EEST
DTSTART:20250330T010000
END:DAYLIGHT
BEGIN:STANDARD
TZOFFSETFROM:+0300
TZOFFSETTO:+0200
TZNAME:EET
DTSTART:20251026T010000
END:STANDARD
END:VTIMEZONE
BEGIN:VEVENT
DTSTART;VALUE=DATE:20240927
DTEND;VALUE=DATE:20241002
DTSTAMP:20260420T004903
CREATED:20240824T071658Z
LAST-MODIFIED:20240904T103939Z
UID:10000209-1727395200-1727827199@www.postcrossingyhdistys.fi
SUMMARY:World Postcard Day 2024 -tempaus 27.9.-1.10.2024
DESCRIPTION:Maailman postikorttipäivää 2024 (World Postcard Day) vietetään Suomessa tänä vuonna peräti 34:llä paikkakunnilla. \nAlla on lueteltu tempaukseen osallistuvat paikkakunnat aikajärjestyksessä 27.9. – 1.10. Yhteyshenkilön nimeä klikkaamalla näet kyseisen miitin tiedot ja ilmoittautumisohjeet. \nIlmoittautuminen miitteihin päättyy 6.-8.9. paikkakunnasta riippuen. Tule mukaan! \nMiittipaikkakunnat 2024\n\n\n\n\n	Alkaen kloPaikkaIlmoittautuminen\n\n\n\n\n	PERJANTAI 27.9.\n\n\n	Eno17:30Ravintola Dona\, Kauppakatu 8\, EnoMinttumaaria\n\n\n	Maarianhamina18:00Konstförenings Klubblokal\, Fabriksgatan 4Anna-Hannele\n\n\n	LAUANTAI 28.9.\n\n\n	Kuopio09:00Amalia's Home & Cafe\, Asemakatu 1raanolli\n\n\n	Harjavalta10:00Uimahallin kahvio\, Yhdyskaty 2\, Harjavaltaoutsikka\n\n\n	Kangasala10:00Vatialan kirjasto\, Vatialantie 2Makilatu\n\n\n	Eurajoki12:00Kämpän kaffetupa\, Etukämpäntie 710\, EurajokiJonesy72\n\n\n	Jyväskylä12:00Vesilinna\, Ihantolantie 5MaHaKo\n\n\n	Tuuri12:00Hotelli onnenTähti\, Veljekset Keskinen\, Onnentie 7Windmill\n\n\n	Kokkola13:00Cafe Harjun Rinkeli\, Prismantie 1pikkumyy15\n\n\n	Helsinki14:00Fazer Café Kluuvi\, Kluuvikatu 3\, HelsinkiRegndroppar\n\n\n	Sastamala14:00Kirjakahvila Pukstaavi\, Marttilankatu 12krizista\n\n\n	Luvia14:30Bar Purje\, Laitakarintie 322Jonesy72\n\n\n	Seinäjoki15:30Wenla Cafe & Bistro\, Torikeskus\, kauppatori 1-3Windmill\n\n\n	Oulu16:30D-asema\, Valtatie 53ShariLoveFIN\n\n\n	Tampere17:00Zarillo\, Puutarhakatu 8Shireya\n\n\n	Kuortane18:00Kuortaneen kirjasto\, Kirjastokuja 4Windmill\n\n\n	SUNNUNTAI 29.9.\n\n\n	Hämeenkyrö12:00Frantsilan Kehäkukka\, Yrjö-Koskisentie 1\, HämeenkyröMemm\n\n\n	Lohja12:00Kahvila Liisa\, laurinkatu 61tellu72\n\n\n	Kemi12:30Ravintola Mori\, Valtakatu 12airiinkeri56\n\n\n	Kajaani13:00Ravintola Rosso\, Kauppakatu 30Loviisaneiti\n\n\n	Mikkeli13:00Kenkäveron kahvila\, Pursialankatu 6hehajaju\n\n\n	Lahti14:00Espresso House\, Aleksanterinkatu 10Fahda\n\n\n	Parkano14:30Hesburger\, Pahkalantie 3Jonesy72\n\n\n	Valkeakoski15:00Pacho Villa\, Kauppatori 9Shireya\n\n\n	Joroinen16:00Jari-Pekka Liikenneaseman kabinetti\, Joroistentie 5tatsi\n\n\n	Kankaanpää17:00Niinisalon sotilaskoti\, Kotikatu 32outsikka\n\n\n	MAANANTAI 30.9.\n\n\n	Espoo17:00La Torrefazione\, Sello\, Leppävaarankatu 3-9Katitriin\n\n\n	Himanka17:30Himangan kirjasto\, Leipämäentie 4Naali58\n\n\n	Pori17:30Cafe Espresso House Puuvilla\, Siltapuistonkatu 14Tanlittan\n\n\n	Korsholm18:00Café Rosetten\, Skolvägen 1hogpet\n\n\n	TIISTAI 1.10.\n\n\n	Laihia17:00Laihian kirjasto\, Laihiantie 39Windmill\n\n\n	Nokia17:00Pancho Villa\, Pirkkalaistori 1Rallu\n\n\n	Turku18:00Kahvila Tori-Otava\, Kauppatoriinsp3ktor\n\n\n	Vaasa18:30Kohtaamispaikka Huudi\, Mannerheimintie 41Windmill
URL:https://www.postcrossingyhdistys.fi/tapahtuma/world-postcard-day-2024-tempaus/
CATEGORIES:Miitti
ATTACH;FMTTYPE=image/jpeg:https://www.postcrossingyhdistys.fi/wp-content/uploads/2024/08/world-postcard-day-2024.jpg
ORGANIZER;CN="Suomen postcrossingyhdistys ry":MAILTO:tapahtumat@postcrossingyhdistys.fi
END:VEVENT
END:VCALENDAR