BEGIN:VCALENDAR
VERSION:2.0
PRODID:-//Suomen postcrossingyhdistys ry - ECPv6.15.20//NONSGML v1.0//EN
CALSCALE:GREGORIAN
METHOD:PUBLISH
X-WR-CALNAME:Suomen postcrossingyhdistys ry
X-ORIGINAL-URL:https://www.postcrossingyhdistys.fi
X-WR-CALDESC:Tapahtumat Suomen postcrossingyhdistys ry
REFRESH-INTERVAL;VALUE=DURATION:PT1H
X-Robots-Tag:noindex
X-PUBLISHED-TTL:PT1H
BEGIN:VTIMEZONE
TZID:Europe/Helsinki
BEGIN:DAYLIGHT
TZOFFSETFROM:+0200
TZOFFSETTO:+0300
TZNAME:EEST
DTSTART:20250330T010000
END:DAYLIGHT
BEGIN:STANDARD
TZOFFSETFROM:+0300
TZOFFSETTO:+0200
TZNAME:EET
DTSTART:20251026T010000
END:STANDARD
BEGIN:DAYLIGHT
TZOFFSETFROM:+0200
TZOFFSETTO:+0300
TZNAME:EEST
DTSTART:20260329T010000
END:DAYLIGHT
BEGIN:STANDARD
TZOFFSETFROM:+0300
TZOFFSETTO:+0200
TZNAME:EET
DTSTART:20261025T010000
END:STANDARD
BEGIN:DAYLIGHT
TZOFFSETFROM:+0200
TZOFFSETTO:+0300
TZNAME:EEST
DTSTART:20270328T010000
END:DAYLIGHT
BEGIN:STANDARD
TZOFFSETFROM:+0300
TZOFFSETTO:+0200
TZNAME:EET
DTSTART:20271031T010000
END:STANDARD
END:VTIMEZONE
BEGIN:VEVENT
DTSTART;TZID=Europe/Helsinki:20260523T120000
DTEND;TZID=Europe/Helsinki:20260523T170000
DTSTAMP:20260423T011354
CREATED:20260419T100300Z
LAST-MODIFIED:20260421T181740Z
UID:10000246-1779537600-1779555600@www.postcrossingyhdistys.fi
SUMMARY:Kevätmiitti Porissa 23.5.2026
DESCRIPTION:Tervetuloa viettämään ihanaa kevätpäivää postikorttien\, korttiystävien ja porilaisen tunnelman parissa! \nSuomen postcrossingyhdistys kutsuu sinut mukaan iloiseen kevätmiittiin lauantaina 23.5.2026. Tapahtumapaikkana toimii viihtyisä Ravintola Siltalyhty\, tarkemmin Lyhtykabinetti. \n\nPaikka: Ravintola Siltalyhty (Lyhtykabinetti)\, Siltapuistokatu 1\, Pori\nAika: klo 12–17 (saapuminen alkaen klo 11.45\, lounas klo 12.30) \n\nMiitin aikataulu\n\n\n\n\n	11.45 - 12.00Rekisteröityminen miittiin\n- nimilappujen ja miittikuorten jako\n\n\n\n	12.30Lounas noutopöydästä\n\n\n	13.30 - 17.00Miittailua\n- tietovisa 14.30\n- arpajaiset 15.15\n- satakuntalaisten postcrossaajien toiminnan esittely 15.30\n- bingo 16.00\n- yhdistyksen ja Krossaamon myyntipisteet\n\n\n\n\nOhjelmassa mm.\n\nPostikorttien kirjoittelua – miittiin julkaistaan oma keväinen miittikortti\nRentoa yhdessäoloa ja hyvää ruokaa\nKrossaamon myyntipiste\nArpajaiset\, tietovisa ja bingo\n\nMiittilounas\nLounas tarjoillaan klo 12.30. Halutessasi voit ostaa omakustanteisesti viiniä ruokailun yhteydessä. Ilmoitathan mahdolliset allergiat ja ruokarajoitteet ilmoittautumisen yhteydessä. \n\nPäivän menu\nAlkuruoat \n\nRaikasta vihersalaattia ja talon salaatinkastiketta\nKirsikkatomaatti-mozzarellasalaattia\nParmesan-pastasalaattia\nAppelsiini-punasipulisalaattia\nBalsamicomarinoitua punajuurta ja fetamoussea\nVesimelonia ja cantaloupea\nSiltalyhdyn leipälajitelma ja vaahdotettua voita\n\nPääruoat \n\nPaahdettua possunfileetä ja lempeää pippurikastiketta\nKeittiömestarin loimulohta ja sitruuna-kevätsipulifraichea\nKeitettyä perunaa\nUunipaahdettuja kauden kasviksia\n\nJuomat \n\nKotikalja ja vesi\n\nJälkiruoka \n\nSiltalyhdyn briittankakkua tuoreilla marjoilla\nKahvi ja haudutettu tee\n\n\nHyvä tietää\n\n\nMiittipaikka ei valitettavasti ole esteetön – sisäänkäynnissä ja kokoustilaan mentäessä on portaita.\nRavintola sijaitsee noin 2 km päässä Porin matkakeskukselta.\nPaikalle pääsee kävellen tai paikallisbussilla (1 Citylinja\, laituri 1). Lipun hinta 1 €.\nAikataulut ja reitit\nSiltalyhdyn takapihalla muutama autopaikka\, edessä 2 h ilmainen pysäköinti.\nLisää pysäköintitilaa Kauppakeskus Puuvillan läheisyydessä.\n\n\nOsallistumismaksu\n\nYhdistyksen jäsenet: 47 € / hlö\nEi-jäsenet: 57 € / hlö \n\nLisäretki sunnuntaina 24.5.2026 (valinnainen)\n\nKallon majakka\nLisätietoa majakasta \nKallon majakka sijaitsee noin 20 km Porin keskustasta Mäntyluodossa. Lähtö Porin matkakeskukselta Sundellin linja-autolla klo 10. \n\nKesto paikan päällä: noin 1\,5 tuntia\nPaluulähtö klo 12\nHinta: 15 € / hlö\nToteutuu\, jos osallistujia vähintään 10\n\nMajakkaan ei ole pääsyä sisälle. Perillä nautimme merimaisemista ja mahdollisuudesta vierailla Café Kallossa (omakustanteinen). \n\nVinkkejä viikonlopulle\nKauppakeskus Puuvilla sijaitsee aivan miittipaikan vieressä.\nTutustu Puuvillaan \nVoit myös tutustua Porin kulttuurikohteisiin: \n\nPorin taidemuseo (pe 11–18\, la–su 10–17)\nSatakunnan museo (pe–su 11–18)\nLuontotalo Arkki (pe–su 11–17)\n\nLisätietoa museoista \nKevät\, postikortit ja hyvä seura – mitä muuta voisi toivoa? \nLähde mukaan tekemään päivästä ikimuistoinen! \nLämpimästi tervetuloa!\nSuomen postcrossingyhdistys \nIlmoittautumislomake\nIlmoittautuminen päättyy 11.5.2026 \n\n\n                \n                        Mukana ollaan!(Pakollinen)\n			\n					\n					Ilmoittaudun Kevätmiittiin Poriin 23.5.2026\n			Olen Suomen postcrossingyhdistyksen jäsen/kannatusjäsen(Pakollinen)\n			\n					\n					Kyllä\n			\n			\n					\n					En\n			Jäsennumero(Pakollinen)This field is hidden when viewing the formJäsenkerroinThis field is hidden when viewing the formEiJäsenkerroin\n  Tiesithän\, että yhdistyksen jäsenenä osallistut tapahtumiimme edullisemmin?\n\n  Jos liityt Suomen Postcrossingyhdistyksen jäseneksi viimeistään 2 vuorokauden kuluessa ilmoittautumisestasi\, \n  sinulta laskutetaan jäsenen edullisempi osallistumismaksu. 💙\n\n  Tutustu jäsenyyteen ja sen etuihin täällä:\n  \n    👉 Liity jäseneksi ja tutustu etuihin\n  \nOsallistumismaksutPorin kevätmiitin osallistumismaksu\n					\n					\n						Hinta:\n						0\,00 €\n					\n					\n					\n				Lisäretki Kallon majakalle sunnuntaina 24.5.2026\n								\n								Kyllä kiitos\, osallistun majakkaretkelle Kalloon\n							This field is hidden when viewing the formMuseoFlagMajakkaretken osallistumismaksu\n					\n					\n						Hinta:\n						0\,00 €\n					\n					\n					\n				Osallistumismaksu(t) yhteensä\n							\n						Lisätiedot ja toiveetNäiden tietojen avulla voimme huomioida sinut paremmin tapahtuman järjestelyissä.Postcrossing-nimimerkki(Pakollinen)Julkaisulupa(Pakollinen)\n			\n					\n					Kyllä\, nimimerkkini saa julkaista Postcrossing Foorumilla julkaistavassa Kevätmiitin osallistujaluettelossa\n			\n			\n					\n					Ei kiitos\, pitäkää osallistumiseni anonyyminä\n			ErikoisruokavaliotVapaamuotoinen viesti järjestäjilleLaskutus- ja yhteystiedotNimi(Pakollinen)\n                            \n                            \n                                                    \n                                                    Etunimi\n                                                \n                            \n                            \n                                                    \n                                                    Sukunimi\n                                                \n                            \n                        Osoite(Pakollinen)    \n                    \n                         \n                                        \n                                        Lähiosoite\n                                    \n                                    \n                                    Postinumero\n                                 \n                                    \n                                    Paikkakunta\n                                \n                    \n                Sähköposti(Pakollinen)\n                                \n                                    \n                                    Syötä sähköpostiosoite\n                                \n                                \n                                    \n                                    Vahvista sähköpostiosoite\n                                \n                                \n                            Puhelinnumero(Pakollinen)Puhelinnumero ilman väliviivaa ja tyhjiä välejä\, muodossa 0401234567Minut saa lisätä seuraaviin tapahtuman WhatsApp-tiedotuskanaviin\n								\n								Yleinen keskustelukanava (vapaaseen keskusteluun osallistujien kesken\, kevyesti moderoitu)\n							\n								\n								Yhdistyksen tapahtumatiedotekanava (keskustelu ei mahdollista\, vain yksipuoliseen tapahtumatiedotukseen)\n							Suostumus(Pakollinen) Suostun yksityisyysasetuksiin.Annan suostumuksen tällä lomakkeella antamieni tietojen käsittelyyn tapahtuman järjestämisen vaatimilla tavoilla mm. laskutusta\, reskontraa\, osallistujaleutteloa\, viestintää ja markkinointia varten. Tietoja ei luovuteta kolmansille osapuolille tai ulkopuolisille.\n  Tiesithän\, että yhdistyksen jäsenenä osallistut tapahtumiimme edullisemmin?\n\n  Jos liityt Suomen Postcrossingyhdistyksen jäseneksi viimeistään 2 vuorokauden kuluessa ilmoittautumisestasi\, \n  sinulta laskutetaan jäsenen edullisempi osallistumismaksu. 💙\n\n  Tutustu jäsenyyteen ja sen etuihin täällä:\n  \n    👉 Liity jäseneksi ja tutustu etuihin
URL:https://www.postcrossingyhdistys.fi/tapahtuma/kevatmiitti-porissa-23-5-2026/
LOCATION:Ravintola Siltalyhty\, Siltapuistokatu 1\, Pori\, 28100\, Finland
CATEGORIES:Miitti
ATTACH;FMTTYPE=image/jpeg:https://www.postcrossingyhdistys.fi/wp-content/uploads/2026/04/kevatmiitti-porissa-23-5-2026.jpg
ORGANIZER;CN="Suomen postcrossingyhdistys ry":MAILTO:tapahtumat@postcrossingyhdistys.fi
END:VEVENT
BEGIN:VEVENT
DTSTART;TZID=Europe/Helsinki:20260531T160000
DTEND;TZID=Europe/Helsinki:20260606T183000
DTSTAMP:20260423T011354
CREATED:20260417T201727Z
LAST-MODIFIED:20260417T203618Z
UID:10000245-1780243200-1780770600@www.postcrossingyhdistys.fi
SUMMARY:Baltian Postcrossing-seikkailu 31.5.-6.6.2026
DESCRIPTION:Tervetuloa Postcrossing-seikkailulle Baltiaan 31.5.-6.6.2026\nMatkan infosivulle tästä\nIlmoittautuminen alkaa 19.4. klo 20
URL:https://www.postcrossingyhdistys.fi/tapahtuma/baltian-postcrossing-seikkailu-31-5-6-6-2026/
CATEGORIES:Jäsenmatka
ATTACH;FMTTYPE=image/jpeg:https://www.postcrossingyhdistys.fi/wp-content/uploads/2026/04/baltian-postcrossing-seikkailu-2026-kansikuva.jpg
ORGANIZER;CN="Suomen postcrossingyhdistys ry":MAILTO:tapahtumat@postcrossingyhdistys.fi
END:VEVENT
END:VCALENDAR