BEGIN:VCALENDAR
VERSION:2.0
PRODID:-//Suomen postcrossingyhdistys ry - ECPv6.15.20//NONSGML v1.0//EN
CALSCALE:GREGORIAN
METHOD:PUBLISH
X-WR-CALNAME:Suomen postcrossingyhdistys ry
X-ORIGINAL-URL:https://www.postcrossingyhdistys.fi
X-WR-CALDESC:Tapahtumat Suomen postcrossingyhdistys ry
REFRESH-INTERVAL;VALUE=DURATION:PT1H
X-Robots-Tag:noindex
X-PUBLISHED-TTL:PT1H
BEGIN:VTIMEZONE
TZID:Europe/Helsinki
BEGIN:DAYLIGHT
TZOFFSETFROM:+0200
TZOFFSETTO:+0300
TZNAME:EEST
DTSTART:20230326T010000
END:DAYLIGHT
BEGIN:STANDARD
TZOFFSETFROM:+0300
TZOFFSETTO:+0200
TZNAME:EET
DTSTART:20231029T010000
END:STANDARD
BEGIN:DAYLIGHT
TZOFFSETFROM:+0200
TZOFFSETTO:+0300
TZNAME:EEST
DTSTART:20240331T010000
END:DAYLIGHT
BEGIN:STANDARD
TZOFFSETFROM:+0300
TZOFFSETTO:+0200
TZNAME:EET
DTSTART:20241027T010000
END:STANDARD
BEGIN:DAYLIGHT
TZOFFSETFROM:+0200
TZOFFSETTO:+0300
TZNAME:EEST
DTSTART:20250330T010000
END:DAYLIGHT
BEGIN:STANDARD
TZOFFSETFROM:+0300
TZOFFSETTO:+0200
TZNAME:EET
DTSTART:20251026T010000
END:STANDARD
END:VTIMEZONE
BEGIN:VEVENT
DTSTART;TZID=Europe/Helsinki:20240125T180000
DTEND;TZID=Europe/Helsinki:20240125T193000
DTSTAMP:20260423T135314
CREATED:20240119T183903Z
LAST-MODIFIED:20240125T070258Z
UID:10000199-1706205600-1706211000@www.postcrossingyhdistys.fi
SUMMARY:Webinaari postimerkeistä ja postikorttikokoelman laadinnasta 25.1.2024
DESCRIPTION:Tervetuloa mukaan kaikille postcrossaajille avoimeen (jäsenyydestä riippumatta) webinaariin postikorttikokoelman rakentamisesta ja filatelian (postimerkkeily) innostavuudesta. \nWebinaari toteutetaan yhteistyössä Suomen Filatelistiliiton kanssa. \nWebinaari on maksuton. \nOsallistuaksesi\, tarvitset tietokoneen tai mobiililaitteen\, jolla voit seurata videoesitystä. Osallistuaksesi kysymyksin\, tarvitset myös video- ja ääniyhteyden. Saat sähköpostitse Zoom-linkin\, jota klikkaamalla pääset webinaariin. \nWebinaarin aikataulu\n\n17.30 – 18.00 Saapuminen Webinaariin\n\nvoit testata video- ja ääniyhteyksiä tänä aikana ja jutustella muiden osallistujien kanssa\n\n\n18.00 – 18.15 Webinaarin avaus\, Suomen postcrossingyhdistyksen esittely\n\nMarko Kulmala\, toiminnanjohtaja\, Suomen postcrossingyhdistys ry\n\n\n18.15 – 18.45 Lyhyt johdanto ja perusniksejä postikorttikokoelman laadintaan ja rakentamiseen\n\nSeppo Salonen\, Tampereen Filatelistiseura ry\n\n\n18.45 – 19.00 Filatelia harrasteena\, johdatus postimerkkien kiehtovaan maailmaan\n\nJuha Valtonen\, Tampereen Filatelistiseura ry\n\n\n19.00 – 19.15 Keskustelua ja kysymyksiä\n19.15-19.30 Arpajaiset\n\nIlmoittautuminen\nIlmoittautuminen on päättynyt. \n 
URL:https://www.postcrossingyhdistys.fi/tapahtuma/webinaari-postimerkeista-ja-postikorttikokoelman-laadinnasta-25-1-2024/
CATEGORIES:Webinaari
ORGANIZER;CN="Suomen postcrossingyhdistys ry":MAILTO:tapahtumat@postcrossingyhdistys.fi
END:VEVENT
END:VCALENDAR