BEGIN:VCALENDAR
VERSION:2.0
PRODID:-//Suomen postcrossingyhdistys ry - ECPv6.15.20//NONSGML v1.0//EN
CALSCALE:GREGORIAN
METHOD:PUBLISH
X-WR-CALNAME:Suomen postcrossingyhdistys ry
X-ORIGINAL-URL:https://www.postcrossingyhdistys.fi
X-WR-CALDESC:Tapahtumat Suomen postcrossingyhdistys ry
REFRESH-INTERVAL;VALUE=DURATION:PT1H
X-Robots-Tag:noindex
X-PUBLISHED-TTL:PT1H
BEGIN:VTIMEZONE
TZID:Europe/Helsinki
BEGIN:DAYLIGHT
TZOFFSETFROM:+0200
TZOFFSETTO:+0300
TZNAME:EEST
DTSTART:20210328T010000
END:DAYLIGHT
BEGIN:STANDARD
TZOFFSETFROM:+0300
TZOFFSETTO:+0200
TZNAME:EET
DTSTART:20211031T010000
END:STANDARD
BEGIN:DAYLIGHT
TZOFFSETFROM:+0200
TZOFFSETTO:+0300
TZNAME:EEST
DTSTART:20220327T010000
END:DAYLIGHT
BEGIN:STANDARD
TZOFFSETFROM:+0300
TZOFFSETTO:+0200
TZNAME:EET
DTSTART:20221030T010000
END:STANDARD
BEGIN:DAYLIGHT
TZOFFSETFROM:+0200
TZOFFSETTO:+0300
TZNAME:EEST
DTSTART:20230326T010000
END:DAYLIGHT
BEGIN:STANDARD
TZOFFSETFROM:+0300
TZOFFSETTO:+0200
TZNAME:EET
DTSTART:20231029T010000
END:STANDARD
BEGIN:DAYLIGHT
TZOFFSETFROM:+0200
TZOFFSETTO:+0300
TZNAME:EEST
DTSTART:20240331T010000
END:DAYLIGHT
BEGIN:STANDARD
TZOFFSETFROM:+0300
TZOFFSETTO:+0200
TZNAME:EET
DTSTART:20241027T010000
END:STANDARD
END:VTIMEZONE
BEGIN:VEVENT
DTSTART;TZID=Europe/Helsinki:20221119T180000
DTEND;TZID=Europe/Helsinki:20221119T200000
DTSTAMP:20260423T144708
CREATED:20220926T174919Z
LAST-MODIFIED:20220926T174919Z
UID:10000178-1668880800-1668888000@www.postcrossingyhdistys.fi
SUMMARY:International Virtual Thanksgiving Postcrossing Meetup
DESCRIPTION:Welcome to the cyber meetup! This time the topic is Thanksgiving. The language of the meetup is English. \nREAD MORE AND REGISTER \nRegistering begins on 24 October 2022.
URL:https://www.postcrossingyhdistys.fi/tapahtuma/international-virtual-thanksgiving-postcrossing-meetup/
CATEGORIES:Miitti
ORGANIZER;CN="Suomen postcrossingyhdistys ry":MAILTO:tapahtumat@postcrossingyhdistys.fi
END:VEVENT
BEGIN:VEVENT
DTSTART;TZID=Europe/Helsinki:20221210T180000
DTEND;TZID=Europe/Helsinki:20221210T200000
DTSTAMP:20260423T144708
CREATED:20220926T175111Z
LAST-MODIFIED:20220926T175111Z
UID:10000179-1670695200-1670702400@www.postcrossingyhdistys.fi
SUMMARY:Virtuaalinen Pikkujoulumiitti
DESCRIPTION:Tervetuloa pikkujouluilemaan virtuaalisesti! Painatamme myös oman postikortin! \nLUE LISÄÄ JA ILMOITTAUDU \nIlmoittautuminen alkaa 19.11.2022
URL:https://www.postcrossingyhdistys.fi/tapahtuma/virtuaalinen-pikkujoulumiitti-2/
CATEGORIES:Miitti
ORGANIZER;CN="Suomen postcrossingyhdistys ry":MAILTO:tapahtumat@postcrossingyhdistys.fi
END:VEVENT
BEGIN:VEVENT
DTSTART;TZID=Europe/Helsinki:20230211T180000
DTEND;TZID=Europe/Helsinki:20230211T200000
DTSTAMP:20260423T144708
CREATED:20221231T204138Z
LAST-MODIFIED:20230110T175528Z
UID:10000180-1676138400-1676145600@www.postcrossingyhdistys.fi
SUMMARY:Virtuaalinen Ystävänpäivämiitti 11.2.2023
DESCRIPTION:Lisätiedot ja ilmoittautuminen
URL:https://www.postcrossingyhdistys.fi/tapahtuma/virtuaalinen-ystavanpaivamiitti-11-2-2023/
CATEGORIES:Miitti
ORGANIZER;CN="Suomen postcrossingyhdistys ry":MAILTO:tapahtumat@postcrossingyhdistys.fi
END:VEVENT
BEGIN:VEVENT
DTSTART;TZID=Europe/Helsinki:20230318T130000
DTEND;TZID=Europe/Helsinki:20230318T133000
DTSTAMP:20260423T144708
CREATED:20221231T210006Z
LAST-MODIFIED:20230225T182653Z
UID:10000186-1679144400-1679146200@www.postcrossingyhdistys.fi
SUMMARY:Sääntömääräinen Kevätkokous Oulussa 18.3.2023
DESCRIPTION:Lisätiedot ja ilmoittautuminen tästä linkistä
URL:https://www.postcrossingyhdistys.fi/tapahtuma/saantomaarainen-kevatkokous-oulussa-18-3-2023/
CATEGORIES:Yhdistyksen kokous
ORGANIZER;CN="Suomen postcrossingyhdistys ry":MAILTO:tapahtumat@postcrossingyhdistys.fi
END:VEVENT
BEGIN:VEVENT
DTSTART;TZID=Europe/Helsinki:20230318T141500
DTEND;TZID=Europe/Helsinki:20230319T184500
DTSTAMP:20260423T144708
CREATED:20230110T181919Z
LAST-MODIFIED:20230225T182617Z
UID:10000198-1679148900-1679251500@www.postcrossingyhdistys.fi
SUMMARY:Kevätmiitti Oulussa 18.-19.3.2023
DESCRIPTION:Lisätiedot ja ilmoittautuminen tästä linkistä
URL:https://www.postcrossingyhdistys.fi/tapahtuma/kevatmiitti-oulussa-18-19-3-2023/
LOCATION:Nordic Art Hotel Lasaretti\, Kasarmintie 13b\, Oulu\, 90130\, Suomi
CATEGORIES:Miitti
ORGANIZER;CN="Suomen postcrossingyhdistys ry":MAILTO:tapahtumat@postcrossingyhdistys.fi
GEO:65.0204565;25.484553
X-APPLE-STRUCTURED-LOCATION;VALUE=URI;X-ADDRESS=Nordic Art Hotel Lasaretti Kasarmintie 13b Oulu 90130 Suomi;X-APPLE-RADIUS=500;X-TITLE=Kasarmintie 13b:geo:25.484553,65.0204565
END:VEVENT
BEGIN:VEVENT
DTSTART;TZID=Europe/Helsinki:20230404T180000
DTEND;TZID=Europe/Helsinki:20230404T200000
DTSTAMP:20260423T144708
CREATED:20221231T204251Z
LAST-MODIFIED:20221231T204251Z
UID:10000181-1680631200-1680638400@www.postcrossingyhdistys.fi
SUMMARY:Virtuaalinen Pääsiäismiitti 4.4.2023
DESCRIPTION:Lisätiedot ja ilmoittautuminen
URL:https://www.postcrossingyhdistys.fi/tapahtuma/virtuaalinen-paasiaismiitti-4-4-2023/
CATEGORIES:Miitti
ORGANIZER;CN="Suomen postcrossingyhdistys ry":MAILTO:tapahtumat@postcrossingyhdistys.fi
END:VEVENT
BEGIN:VEVENT
DTSTART;TZID=Europe/Helsinki:20230415T100000
DTEND;TZID=Europe/Helsinki:20230415T190000
DTSTAMP:20260423T144708
CREATED:20230103T101602Z
LAST-MODIFIED:20230320T203040Z
UID:10000188-1681552800-1681585200@www.postcrossingyhdistys.fi
SUMMARY:13. Korttien Tarinat -postikorttifestivaali Hämeenlinnassa 15.4.2023
DESCRIPTION:Lisätiedot ja ilmoittautuminen Festivaalimiittiin \n 
URL:https://www.postcrossingyhdistys.fi/tapahtuma/13-korttien-tarinat-postikorttifestivaali-hameenlinnassa-15-4-2023/
LOCATION:Verkatehdas\, Paasikiventie 2 \, Hämeenlinna\, Suomi
CATEGORIES:Miitti,Postikorttitapahtuma
ORGANIZER;CN="Suomen postcrossingyhdistys ry":MAILTO:tapahtumat@postcrossingyhdistys.fi
GEO:60.9972219;24.4769909
X-APPLE-STRUCTURED-LOCATION;VALUE=URI;X-ADDRESS=Verkatehdas Paasikiventie 2  Hämeenlinna Suomi;X-APPLE-RADIUS=500;X-TITLE=Paasikiventie 2:geo:24.4769909,60.9972219
END:VEVENT
BEGIN:VEVENT
DTSTART;TZID=Europe/Helsinki:20230506T090000
DTEND;TZID=Europe/Helsinki:20230506T170000
DTSTAMP:20260423T144708
CREATED:20230103T101720Z
LAST-MODIFIED:20230418T145418Z
UID:10000189-1683363600-1683392400@www.postcrossingyhdistys.fi
SUMMARY:Jäsenretki Taiteilijakoti Erkkolaan Tuusulaan 6.5.2023
DESCRIPTION:Lisätiedot ja ilmoittautuminen tästä linkistä\n 
URL:https://www.postcrossingyhdistys.fi/tapahtuma/jasenretki-taiteilijakoti-erkkolaan-tuusulaan-6-5-2023/
CATEGORIES:Jäsenmatka,Miitti
ORGANIZER;CN="Suomen postcrossingyhdistys ry":MAILTO:tapahtumat@postcrossingyhdistys.fi
END:VEVENT
BEGIN:VEVENT
DTSTART;TZID=Europe/Helsinki:20230513T180000
DTEND;TZID=Europe/Helsinki:20230513T200000
DTSTAMP:20260423T144708
CREATED:20221231T204509Z
LAST-MODIFIED:20221231T204509Z
UID:10000182-1684000800-1684008000@www.postcrossingyhdistys.fi
SUMMARY:International Virtual Spring Meetup 13.5.2023
DESCRIPTION:Details and registration
URL:https://www.postcrossingyhdistys.fi/tapahtuma/international-virtual-spring-meetup-13-5-2023/
CATEGORIES:Miitti
ORGANIZER;CN="Suomen postcrossingyhdistys ry":MAILTO:tapahtumat@postcrossingyhdistys.fi
END:VEVENT
BEGIN:VEVENT
DTSTART;VALUE=DATE:20230607
DTEND;VALUE=DATE:20230611
DTSTAMP:20260423T144708
CREATED:20230103T102640Z
LAST-MODIFIED:20230423T133148Z
UID:10000191-1686096000-1686441599@www.postcrossingyhdistys.fi
SUMMARY:7th Åland Islands Postcrossing Adventure 7.-10.6.2023
DESCRIPTION:Lisätiedot ja ilmoittautuminen\nDetails and registration
URL:https://www.postcrossingyhdistys.fi/tapahtuma/7th-aland-islands-postcrossing-adventure-7-10-6-2023/
LOCATION:Ahvenanmaa\, Maarianhamina
CATEGORIES:Jäsenmatka,Miitti
ORGANIZER;CN="Suomen postcrossingyhdistys ry":MAILTO:tapahtumat@postcrossingyhdistys.fi
END:VEVENT
END:VCALENDAR