BEGIN:VCALENDAR
VERSION:2.0
PRODID:-//Suomen postcrossingyhdistys ry - ECPv6.15.20//NONSGML v1.0//EN
CALSCALE:GREGORIAN
METHOD:PUBLISH
X-WR-CALNAME:Suomen postcrossingyhdistys ry
X-ORIGINAL-URL:https://www.postcrossingyhdistys.fi
X-WR-CALDESC:Tapahtumat Suomen postcrossingyhdistys ry
REFRESH-INTERVAL;VALUE=DURATION:PT1H
X-Robots-Tag:noindex
X-PUBLISHED-TTL:PT1H
BEGIN:VTIMEZONE
TZID:Europe/Helsinki
BEGIN:DAYLIGHT
TZOFFSETFROM:+0200
TZOFFSETTO:+0300
TZNAME:EEST
DTSTART:20210328T010000
END:DAYLIGHT
BEGIN:STANDARD
TZOFFSETFROM:+0300
TZOFFSETTO:+0200
TZNAME:EET
DTSTART:20211031T010000
END:STANDARD
BEGIN:DAYLIGHT
TZOFFSETFROM:+0200
TZOFFSETTO:+0300
TZNAME:EEST
DTSTART:20220327T010000
END:DAYLIGHT
BEGIN:STANDARD
TZOFFSETFROM:+0300
TZOFFSETTO:+0200
TZNAME:EET
DTSTART:20221030T010000
END:STANDARD
BEGIN:DAYLIGHT
TZOFFSETFROM:+0200
TZOFFSETTO:+0300
TZNAME:EEST
DTSTART:20230326T010000
END:DAYLIGHT
BEGIN:STANDARD
TZOFFSETFROM:+0300
TZOFFSETTO:+0200
TZNAME:EET
DTSTART:20231029T010000
END:STANDARD
END:VTIMEZONE
BEGIN:VEVENT
DTSTART;TZID=Europe/Helsinki:20221119T180000
DTEND;TZID=Europe/Helsinki:20221119T200000
DTSTAMP:20260425T173015
CREATED:20220926T174919Z
LAST-MODIFIED:20220926T174919Z
UID:10000178-1668880800-1668888000@www.postcrossingyhdistys.fi
SUMMARY:International Virtual Thanksgiving Postcrossing Meetup
DESCRIPTION:Welcome to the cyber meetup! This time the topic is Thanksgiving. The language of the meetup is English. \nREAD MORE AND REGISTER \nRegistering begins on 24 October 2022.
URL:https://www.postcrossingyhdistys.fi/tapahtuma/international-virtual-thanksgiving-postcrossing-meetup/
CATEGORIES:Miitti
ORGANIZER;CN="Suomen postcrossingyhdistys ry":MAILTO:tapahtumat@postcrossingyhdistys.fi
END:VEVENT
BEGIN:VEVENT
DTSTART;TZID=Europe/Helsinki:20221210T180000
DTEND;TZID=Europe/Helsinki:20221210T200000
DTSTAMP:20260425T173015
CREATED:20220926T175111Z
LAST-MODIFIED:20220926T175111Z
UID:10000179-1670695200-1670702400@www.postcrossingyhdistys.fi
SUMMARY:Virtuaalinen Pikkujoulumiitti
DESCRIPTION:Tervetuloa pikkujouluilemaan virtuaalisesti! Painatamme myös oman postikortin! \nLUE LISÄÄ JA ILMOITTAUDU \nIlmoittautuminen alkaa 19.11.2022
URL:https://www.postcrossingyhdistys.fi/tapahtuma/virtuaalinen-pikkujoulumiitti-2/
CATEGORIES:Miitti
ORGANIZER;CN="Suomen postcrossingyhdistys ry":MAILTO:tapahtumat@postcrossingyhdistys.fi
END:VEVENT
END:VCALENDAR