BEGIN:VCALENDAR
VERSION:2.0
PRODID:-//Suomen postcrossingyhdistys ry - ECPv6.15.20//NONSGML v1.0//EN
CALSCALE:GREGORIAN
METHOD:PUBLISH
X-WR-CALNAME:Suomen postcrossingyhdistys ry
X-ORIGINAL-URL:https://www.postcrossingyhdistys.fi
X-WR-CALDESC:Tapahtumat Suomen postcrossingyhdistys ry
REFRESH-INTERVAL;VALUE=DURATION:PT1H
X-Robots-Tag:noindex
X-PUBLISHED-TTL:PT1H
BEGIN:VTIMEZONE
TZID:Europe/Helsinki
BEGIN:DAYLIGHT
TZOFFSETFROM:+0200
TZOFFSETTO:+0300
TZNAME:EEST
DTSTART:20210328T010000
END:DAYLIGHT
BEGIN:STANDARD
TZOFFSETFROM:+0300
TZOFFSETTO:+0200
TZNAME:EET
DTSTART:20211031T010000
END:STANDARD
BEGIN:DAYLIGHT
TZOFFSETFROM:+0200
TZOFFSETTO:+0300
TZNAME:EEST
DTSTART:20220327T010000
END:DAYLIGHT
BEGIN:STANDARD
TZOFFSETFROM:+0300
TZOFFSETTO:+0200
TZNAME:EET
DTSTART:20221030T010000
END:STANDARD
BEGIN:DAYLIGHT
TZOFFSETFROM:+0200
TZOFFSETTO:+0300
TZNAME:EEST
DTSTART:20230326T010000
END:DAYLIGHT
BEGIN:STANDARD
TZOFFSETFROM:+0300
TZOFFSETTO:+0200
TZNAME:EET
DTSTART:20231029T010000
END:STANDARD
END:VTIMEZONE
BEGIN:VEVENT
DTSTART;TZID=Europe/Helsinki:20220812T140000
DTEND;TZID=Europe/Helsinki:20220814T140000
DTSTAMP:20260424T190645
CREATED:20211217T123328Z
LAST-MODIFIED:20220205T123431Z
UID:10000169-1660312800-1660485600@www.postcrossingyhdistys.fi
SUMMARY:Jäsenmatka Visbyhyn Gotlantiin
DESCRIPTION:Matkaamme ensimmäistä kertaa Gotlantiin\, kohteena Visby\, jonka vanhakaupunki on Unescon maailmanperintökohde. Miitti alkaa jo Helsingissä satamassa Viking Gabriellalla ennen laivan lähtöä. \nMatkaohjelma ja ilmoittautuminen\n 
URL:https://www.postcrossingyhdistys.fi/tapahtuma/jasenmatka-visbyhyn-gotlantiin-2022/
LOCATION:Visby\, Visby\, Ruotsi
CATEGORIES:Jäsenmatka,Miitti
ORGANIZER;CN="Suomen postcrossingyhdistys ry":MAILTO:tapahtumat@postcrossingyhdistys.fi
END:VEVENT
END:VCALENDAR