BEGIN:VCALENDAR
VERSION:2.0
PRODID:-//Suomen postcrossingyhdistys ry - ECPv6.15.20//NONSGML v1.0//EN
CALSCALE:GREGORIAN
METHOD:PUBLISH
X-WR-CALNAME:Suomen postcrossingyhdistys ry
X-ORIGINAL-URL:https://www.postcrossingyhdistys.fi
X-WR-CALDESC:Tapahtumat Suomen postcrossingyhdistys ry
REFRESH-INTERVAL;VALUE=DURATION:PT1H
X-Robots-Tag:noindex
X-PUBLISHED-TTL:PT1H
BEGIN:VTIMEZONE
TZID:Europe/Helsinki
BEGIN:DAYLIGHT
TZOFFSETFROM:+0200
TZOFFSETTO:+0300
TZNAME:EEST
DTSTART:20240331T010000
END:DAYLIGHT
BEGIN:STANDARD
TZOFFSETFROM:+0300
TZOFFSETTO:+0200
TZNAME:EET
DTSTART:20241027T010000
END:STANDARD
BEGIN:DAYLIGHT
TZOFFSETFROM:+0200
TZOFFSETTO:+0300
TZNAME:EEST
DTSTART:20250330T010000
END:DAYLIGHT
BEGIN:STANDARD
TZOFFSETFROM:+0300
TZOFFSETTO:+0200
TZNAME:EET
DTSTART:20251026T010000
END:STANDARD
BEGIN:DAYLIGHT
TZOFFSETFROM:+0200
TZOFFSETTO:+0300
TZNAME:EEST
DTSTART:20260329T010000
END:DAYLIGHT
BEGIN:STANDARD
TZOFFSETFROM:+0300
TZOFFSETTO:+0200
TZNAME:EET
DTSTART:20261025T010000
END:STANDARD
END:VTIMEZONE
BEGIN:VEVENT
DTSTART;TZID=Europe/Helsinki:20251025T100000
DTEND;TZID=Europe/Helsinki:20251025T140000
DTSTAMP:20260420T195555
CREATED:20251017T083801Z
LAST-MODIFIED:20251024T065637Z
UID:10000236-1761386400-1761400800@www.postcrossingyhdistys.fi
SUMMARY:Postikorttien juhlatori Vapriikissa 25.10.2025
DESCRIPTION:Tule juhlistamaan postikorttien iloa ja löytämään aarteita! 🎉\nOsana Suomen Postcrossingyhdistyksen 10-vuotisjuhlaviikonloppua Vapriikissa järjestetään Postikorttien juhlatori\, jossa postikortit\, taide ja paperituotteet ovat pääosassa. Tapahtumaan on vapaa pääsy\, ja se sopii niin keräilijöille\, harrastajille kuin kaikille postikorttien ystäville. \nTorilta löydät inspiroivan kattauksen myyjiä: kuvittajia\, taiteilijoita\, pienkustantajia\, yhdistyksiä ja korttikauppiaita ympäri Suomen. Tule tapaamaan tekijöitä\, selaamaan valikoimia ja laatikoita\, inspiroitumaan ja tekemään löytöjä – sekä nauttimaan hyvästä tunnelmasta! \nTampereella Vapriikissa la 25.10.2025 klo 10-14 \nVapaa pääsy! \nNäytteilleasettajat Postikorttien juhlatorilla\n\nHannu Moilanen / Kuva-Hannu – Postikortteja Suomen kaupungeista (mm. Tampere)\, joulukortteja\, luonto- ja nostalgia-aiheita.\nJustineF – Kuvittaja\, jonka akryylimaalauksissa esiintyy söpöjä eläimiä ja luontoaiheita; kortteja ja kirjoitusvälineitä.\nKåirantaidestudio – Naivistisia kortteja ja A4-julisteita originaalimaalauksista\, lisäksi Naivismimaalauksen ABC -kirja.\nKati Vuorento – Kuvittajan suloisia eläin- ja kasviaiheisia postikortteja.\nKirstin Galleria – Taidekortteja Kirsti Koron maalauksista; tuotantoa jo yli 40 vuoden ajalta.\nKorttien Talo / Markku Laakso – Penkomislaatikoita\, paikkakuntakortteja ja joulukortteja Korttien Talon valikoimista.\nKrossaamo – Postimerkkejä\, Inge Löökin postikortteja\, Postcardsmarketin postikortteja\, Oulu Firefighers postikortteja.\nKuvasääski postikortit – Lappilaisia postikortteja vuodesta 1990; vuodenajat ja luonnon kuvat.\nMielenkuvia – Kortteja astrologiasta\, mystiikasta ja symboliikasta; omaperäisiä kuvituksia.\nMinor Postcards – Pienjulkaisijan suosittuja\, persoonallisia postikortteja.\nPilkkuraita – Leikkisiä ja tunnelmallisia Pilkkuraita-postikortteja.\nSatumaisia Taidetta / Maritta Penttinen – Akvarellimaalauksista valmistettuja satumaisia postikortteja.\nSeppo Lehto / Zezzo – Kissakortteja eri vuodenaikoina\, valokuvia ja julkaisuja.\nSuomen postcrossingyhdistys ry – Yhdistyksen julkaisemia postikortteja vuosien varrelta.\nTaikaviitta – Lasten kortteja\, mm. Peppi Pitkätossu\, Myyrä ja Muumit.\nTuuni Turula – Persoonallisia ja ilmeikkäitä postikortteja ja taidekuvituksia.\nVirpi Pekkala Kerho ry – Virpi Pekkalan hyvän mielen postikortteja ja kuvituksia.
URL:https://www.postcrossingyhdistys.fi/tapahtuma/postikorttien-juhlatori-vapriikissa-25-10-2025/
LOCATION:Museokeskus Vapriikki\, Alaverstaanraitti 5\, Tampere\, 33100\, Suomi
CATEGORIES:Pop-up-postikorttimessut,Postikorttitapahtuma
ATTACH;FMTTYPE=image/jpeg:https://www.postcrossingyhdistys.fi/wp-content/uploads/2025/10/postikorttien-juhlatori-25-11-2025.jpg
ORGANIZER;CN="Suomen postcrossingyhdistys ry":MAILTO:tapahtumat@postcrossingyhdistys.fi
GEO:61.5030142;23.7601947
X-APPLE-STRUCTURED-LOCATION;VALUE=URI;X-ADDRESS=Museokeskus Vapriikki Alaverstaanraitti 5 Tampere 33100 Suomi;X-APPLE-RADIUS=500;X-TITLE=Alaverstaanraitti 5:geo:23.7601947,61.5030142
END:VEVENT
END:VCALENDAR